Workbook
Name NVARCHAR2_Column_Type: COLUMNS!#REF!

Sheet Database Sizing
A1: Acumen Touchstone 8.11.3 Database Sizing Utility
A3: This spreadsheet can be used to estimate the database size required to support your use of Acumen Touchstone.
A4: Change the values in the Parameters column to calculate the total database size.
A5: Note: This is only a guide for estimation purposes. It is not an exact calculation of size due to variations in the average size of actual data.
E8: Parameters
A9: Number of Metrics | E9: 320
A10: Number of Metric Variables | E10: 5
A11: Number of Benchmarks | E11: 5
A12: Number of Benchmark Attribute Values Per Benchmark | E12: 5
A13: Number of Accceptance Criteria | E13: 5
A14: Number of Metrics Per Acceptance Criteria | E14: 20
A15: Number of Programs | E15: 5
A16: Number of Benchmarks Per Program | E16: 5
A17: Number of Projects Per Program | E17: 5
A18: Submittal Frequency | E18: Monthly
A19: Average Submittal Project Size In MB | E19: 10
A20: Number of Access Control Records (per Record) | E20: 5
A21: Number of Field Mappings | E21: 5
A22: Number of Field Mapping Fields (per Field Mapping Record) | E22: 5
A23: Number of Email Footer Templates | E23: 5
A24: Number of Reporting Records | E24: 5
A25: Number of Acceptance Reporting Associations (per Reporting Record) | E25: 5
A26: Number of Benchmark Reporting Associations (per Reporting Record) | E26: 5
A27: Number of Report Summary Data (per Reporting Record) | E27: 10
A28: Number of Report Summary Data - Acceptance Scores | E28: 50
A29: Number of Report Summary Data - Benchmark Attribute Scores | E29: 50
A30: Number of Report Summary Data - Snapshot Metric Scores | E30: 1000
D34: Initial | E34: Next 12 months
A35: Estimated Database Size (bytes) | D35: =SUM(CALCULATIONS!B2:B19)+CALCULATIONS!B57 -> 67750316 | E35: =SUM(CALCULATIONS!B2:B24)+SUM(CALCULATIONS!B37:B43)+CALCULATIONS!B57 -> 13019641636
A36: Plus 10% other data | D36: =SUM(CALCULATIONS!B2:B19)*0.1 -> 4544776.5 | E36: =(SUM(CALCULATIONS!B2:B24)+SUM(CALCULATIONS!B37:B43))*0.1 -> 1.2997339e+09
A37: Total | D37: =SUM(D35:D36) -> 72295092 | E37: =SUM(E35:E36) -> 1.4319376e+10
A38: Total (in MB) | D38: =SUM(D35:D36)/(1024*1024) -> 68.945973 | E38: =SUM(E35:E36)/(1024*1024) -> 13656.021

Sheet COLUMNS
A1: TABLE_NAME | B1: COLUMN_NAME | C1: DATATYPE | D1: MAX LENGTH | F1: DB BYTES | G1: ROW_BYTES | H1: REMARKS
A2: ACU_ACCEPTANCE | B2: ACU_ACCEPTANCE_UID | C2: GUID | F2: =IF(C2="NVARCHAR",CALCULATIONS!$B$51+(D2*2),IF(C2="INT",[1]CALCULATIONS!$B$26,IF(C2="FLOAT",[1]CALCULATIONS!$B$27,IF(C2="DATE",[1]CALCULATIONS!$B$25,IF(C2="VARCHAR",[1]CALCULATIONS!$B$28+D2,IF(C2="GUID",[1]CALCULATIONS!$B$24,D2)))))) -> 24
A3: ACU_ACCEPTANCE | B3: SEQUENCE | C3: INT | F3: =IF(C3="NVARCHAR",[1]CALCULATIONS!$B$28+(D3*2),IF(C3="INT",[1]CALCULATIONS!$B$26,IF(C3="FLOAT",[1]CALCULATIONS!$B$27,IF(C3="DATE",[1]CALCULATIONS!$B$25,IF(C3="VARCHAR",[1]CALCULATIONS!$B$28+D3,IF(C3="GUID",[1]CALCULATIONS!$B$24,D3)))))) -> 4
A4: ACU_ACCEPTANCE | B4: SCORINGMETHOD | C4: INT | F4: =IF(C4="NVARCHAR",[1]CALCULATIONS!$B$28+(D4*2),IF(C4="INT",[1]CALCULATIONS!$B$26,IF(C4="FLOAT",[1]CALCULATIONS!$B$27,IF(C4="DATE",[1]CALCULATIONS!$B$25,IF(C4="VARCHAR",[1]CALCULATIONS!$B$28+D4,IF(C4="GUID",[1]CALCULATIONS!$B$24,D4)))))) -> 4
A5: ACU_ACCEPTANCE | B5: MINIMUMSCORE | C5: INT | F5: =IF(C5="NVARCHAR",[1]CALCULATIONS!$B$28+(D5*2),IF(C5="INT",[1]CALCULATIONS!$B$26,IF(C5="FLOAT",[1]CALCULATIONS!$B$27,IF(C5="DATE",[1]CALCULATIONS!$B$25,IF(C5="VARCHAR",[1]CALCULATIONS!$B$28+D5,IF(C5="GUID",[1]CALCULATIONS!$B$24,D5)))))) -> 4
A6: ACU_ACCEPTANCE | B6: LASTUPDATE | C6: DATE | F6: =IF(C6="NVARCHAR",[1]CALCULATIONS!$B$28+(D6*2),IF(C6="INT",[1]CALCULATIONS!$B$26,IF(C6="FLOAT",[1]CALCULATIONS!$B$27,IF(C6="DATE",[1]CALCULATIONS!$B$25,IF(C6="VARCHAR",[1]CALCULATIONS!$B$28+D6,IF(C6="GUID",[1]CALCULATIONS!$B$24,D6)))))) -> 7
A7: ACU_ACCEPTANCE | B7: USR_ID | C7: NVARCHAR | D7: 20 | F7: =IF(C7="NVARCHAR",[1]CALCULATIONS!$B$28+(D7*2),IF(C7="INT",[1]CALCULATIONS!$B$26,IF(C7="FLOAT",[1]CALCULATIONS!$B$27,IF(C7="DATE",[1]CALCULATIONS!$B$25,IF(C7="VARCHAR",[1]CALCULATIONS!$B$28+D7,IF(C7="GUID",[1]CALCULATIONS!$B$24,D7)))))) -> 42
A8: ACU_ACCEPTANCE | B8: ACU_ACCEPTANCE_ID | C8: NVARCHAR | D8: 60 | F8: =IF(C8="NVARCHAR",[1]CALCULATIONS!$B$28+(D8*2),IF(C8="INT",[1]CALCULATIONS!$B$26,IF(C8="FLOAT",[1]CALCULATIONS!$B$27,IF(C8="DATE",[1]CALCULATIONS!$B$25,IF(C8="VARCHAR",[1]CALCULATIONS!$B$28+D8,IF(C8="GUID",[1]CALCULATIONS!$B$24,D8)))))) -> 122
A9: ACU_ACCEPTANCE | B9: REMARKS | C9: NVARCHAR | D9: 32767 | F9: =IF(C9="NVARCHAR",[1]CALCULATIONS!$B$28+(D9*2),IF(C9="INT",[1]CALCULATIONS!$B$26,IF(C9="FLOAT",[1]CALCULATIONS!$B$27,IF(C9="DATE",[1]CALCULATIONS!$B$25,IF(C9="VARCHAR",[1]CALCULATIONS!$B$28+D9,IF(C9="GUID",[1]CALCULATIONS!$B$24,D9)))))) -> 65536 | G9: =SUM(F2:F9) -> 65743 | H9: Max length is 32767, Average data length is about 100
A11: ACU_ACCEPTANCEMETRIC | B11: ACU_ACCEPTANCEMETRIC_UID | C11: GUID | F11: =IF(C11="NVARCHAR",[1]CALCULATIONS!$B$28+(D11*2),IF(C11="INT",[1]CALCULATIONS!$B$26,IF(C11="FLOAT",[1]CALCULATIONS!$B$27,IF(C11="DATE",[1]CALCULATIONS!$B$25,IF(C11="VARCHAR",[1]CALCULATIONS!$B$28+D11,IF(C11="GUID",[1]CALCULATIONS!$B$24,D11)))))) -> 24
A12: ACU_ACCEPTANCEMETRIC | B12: ACU_ACCEPTANCE_UID | C12: GUID | F12: =IF(C12="NVARCHAR",[1]CALCULATIONS!$B$28+(D12*2),IF(C12="INT",[1]CALCULATIONS!$B$26,IF(C12="FLOAT",[1]CALCULATIONS!$B$27,IF(C12="DATE",[1]CALCULATIONS!$B$25,IF(C12="VARCHAR",[1]CALCULATIONS!$B$28+D12,IF(C12="GUID",[1]CALCULATIONS!$B$24,D12)))))) -> 24
A13: ACU_ACCEPTANCEMETRIC | B13: ACU_METRIC_UID | C13: GUID | F13: =IF(C13="NVARCHAR",[1]CALCULATIONS!$B$28+(D13*2),IF(C13="INT",[1]CALCULATIONS!$B$26,IF(C13="FLOAT",[1]CALCULATIONS!$B$27,IF(C13="DATE",[1]CALCULATIONS!$B$25,IF(C13="VARCHAR",[1]CALCULATIONS!$B$28+D13,IF(C13="GUID",[1]CALCULATIONS!$B$24,D13)))))) -> 24
A14: ACU_ACCEPTANCEMETRIC | B14: WEIGHT | C14: INT | F14: =IF(C14="NVARCHAR",[1]CALCULATIONS!$B$28+(D14*2),IF(C14="INT",[1]CALCULATIONS!$B$26,IF(C14="FLOAT",[1]CALCULATIONS!$B$27,IF(C14="DATE",[1]CALCULATIONS!$B$25,IF(C14="VARCHAR",[1]CALCULATIONS!$B$28+D14,IF(C14="GUID",[1]CALCULATIONS!$B$24,D14)))))) -> 4
A15: ACU_ACCEPTANCEMETRIC | B15: REJECTSUBMITWHENFAIL | C15: VARCHAR | D15: 4 | F15: =IF(C15="NVARCHAR",[1]CALCULATIONS!$B$28+(D15*2),IF(C15="INT",[1]CALCULATIONS!$B$26,IF(C15="FLOAT",[1]CALCULATIONS!$B$27,IF(C15="DATE",[1]CALCULATIONS!$B$25,IF(C15="VARCHAR",[1]CALCULATIONS!$B$28+D15,IF(C15="GUID",[1]CALCULATIONS!$B$24,D15)))))) -> 6 | G15: =SUM(F11:F15) -> 82
A17: ACU_BENCHMARK | B17: ACU_BENCHMARK_UID | C17: GUID | F17: =IF(C17="NVARCHAR",[1]CALCULATIONS!$B$28+(D17*2),IF(C17="INT",[1]CALCULATIONS!$B$26,IF(C17="FLOAT",[1]CALCULATIONS!$B$27,IF(C17="DATE",[1]CALCULATIONS!$B$25,IF(C17="VARCHAR",[1]CALCULATIONS!$B$28+D17,IF(C17="GUID",[1]CALCULATIONS!$B$24,D17)))))) -> 24
A18: ACU_BENCHMARK | B18: SEQUENCE | C18: INT | F18: =IF(C18="NVARCHAR",[1]CALCULATIONS!$B$28+(D18*2),IF(C18="INT",[1]CALCULATIONS!$B$26,IF(C18="FLOAT",[1]CALCULATIONS!$B$27,IF(C18="DATE",[1]CALCULATIONS!$B$25,IF(C18="VARCHAR",[1]CALCULATIONS!$B$28+D18,IF(C18="GUID",[1]CALCULATIONS!$B$24,D18)))))) -> 4
A19: ACU_BENCHMARK | B19: LASTUPDATE | C19: DATE | F19: =IF(C19="NVARCHAR",[1]CALCULATIONS!$B$28+(D19*2),IF(C19="INT",[1]CALCULATIONS!$B$26,IF(C19="FLOAT",[1]CALCULATIONS!$B$27,IF(C19="DATE",[1]CALCULATIONS!$B$25,IF(C19="VARCHAR",[1]CALCULATIONS!$B$28+D19,IF(C19="GUID",[1]CALCULATIONS!$B$24,D19)))))) -> 7
A20: ACU_BENCHMARK | B20: USR_ID | C20: NVARCHAR | D20: 20 | F20: =IF(C20="NVARCHAR",[1]CALCULATIONS!$B$28+(D20*2),IF(C20="INT",[1]CALCULATIONS!$B$26,IF(C20="FLOAT",[1]CALCULATIONS!$B$27,IF(C20="DATE",[1]CALCULATIONS!$B$25,IF(C20="VARCHAR",[1]CALCULATIONS!$B$28+D20,IF(C20="GUID",[1]CALCULATIONS!$B$24,D20)))))) -> 42
A21: ACU_BENCHMARK | B21: ACU_BENCHMARK_ID | C21: NVARCHAR | D21: 60 | F21: =IF(C21="NVARCHAR",[1]CALCULATIONS!$B$28+(D21*2),IF(C21="INT",[1]CALCULATIONS!$B$26,IF(C21="FLOAT",[1]CALCULATIONS!$B$27,IF(C21="DATE",[1]CALCULATIONS!$B$25,IF(C21="VARCHAR",[1]CALCULATIONS!$B$28+D21,IF(C21="GUID",[1]CALCULATIONS!$B$24,D21)))))) -> 122
A22: ACU_BENCHMARK | B22: REMARKS | C22: NVARCHAR | D22: 32767 | F22: =IF(C22="NVARCHAR",[1]CALCULATIONS!$B$28+(D22*2),IF(C22="INT",[1]CALCULATIONS!$B$26,IF(C22="FLOAT",[1]CALCULATIONS!$B$27,IF(C22="DATE",[1]CALCULATIONS!$B$25,IF(C22="VARCHAR",[1]CALCULATIONS!$B$28+D22,IF(C22="GUID",[1]CALCULATIONS!$B$24,D22)))))) -> 65536 | G22: =SUM(F17:F22) -> 65735
A24: ACU_BENCHMARKVALUE | B24: ACU_BENCHMARKVALUE_UID | C24: GUID | F24: =IF(C24="NVARCHAR",[1]CALCULATIONS!$B$28+(D24*2),IF(C24="INT",[1]CALCULATIONS!$B$26,IF(C24="FLOAT",[1]CALCULATIONS!$B$27,IF(C24="DATE",[1]CALCULATIONS!$B$25,IF(C24="VARCHAR",[1]CALCULATIONS!$B$28+D24,IF(C24="GUID",[1]CALCULATIONS!$B$24,D24)))))) -> 24
A25: ACU_BENCHMARKVALUE | B25: ACU_BENCHMARK_UID | C25: GUID | F25: =IF(C25="NVARCHAR",[1]CALCULATIONS!$B$28+(D25*2),IF(C25="INT",[1]CALCULATIONS!$B$26,IF(C25="FLOAT",[1]CALCULATIONS!$B$27,IF(C25="DATE",[1]CALCULATIONS!$B$25,IF(C25="VARCHAR",[1]CALCULATIONS!$B$28+D25,IF(C25="GUID",[1]CALCULATIONS!$B$24,D25)))))) -> 24
A26: ACU_BENCHMARKVALUE | B26: VALUE | C26: INT | F26: =IF(C26="NVARCHAR",[1]CALCULATIONS!$B$28+(D26*2),IF(C26="INT",[1]CALCULATIONS!$B$26,IF(C26="FLOAT",[1]CALCULATIONS!$B$27,IF(C26="DATE",[1]CALCULATIONS!$B$25,IF(C26="VARCHAR",[1]CALCULATIONS!$B$28+D26,IF(C26="GUID",[1]CALCULATIONS!$B$24,D26)))))) -> 4
A27: ACU_BENCHMARKVALUE | B27: ACU_BENCHMARKVALUE_ID | C27: NVARCHAR | D27: 60 | F27: =IF(C27="NVARCHAR",[1]CALCULATIONS!$B$28+(D27*2),IF(C27="INT",[1]CALCULATIONS!$B$26,IF(C27="FLOAT",[1]CALCULATIONS!$B$27,IF(C27="DATE",[1]CALCULATIONS!$B$25,IF(C27="VARCHAR",[1]CALCULATIONS!$B$28+D27,IF(C27="GUID",[1]CALCULATIONS!$B$24,D27)))))) -> 122
A28: ACU_BENCHMARKVALUE | B28: SUGGESTION | C28: NVARCHAR | D28: 32767 | F28: =IF(C28="NVARCHAR",[1]CALCULATIONS!$B$28+(D28*2),IF(C28="INT",[1]CALCULATIONS!$B$26,IF(C28="FLOAT",[1]CALCULATIONS!$B$27,IF(C28="DATE",[1]CALCULATIONS!$B$25,IF(C28="VARCHAR",[1]CALCULATIONS!$B$28+D28,IF(C28="GUID",[1]CALCULATIONS!$B$24,D28)))))) -> 65536 | G28: =SUM(F24:F28) -> 65710
A30: ACU_EMAILTEMPLATE | B30: ACU_EMAILTEMPLATE_UID | C30: GUID | F30: =IF(C30="NVARCHAR",[1]CALCULATIONS!$B$28+(D30*2),IF(C30="INT",[1]CALCULATIONS!$B$26,IF(C30="FLOAT",[1]CALCULATIONS!$B$27,IF(C30="DATE",[1]CALCULATIONS!$B$25,IF(C30="VARCHAR",[1]CALCULATIONS!$B$28+D30,IF(C30="GUID",[1]CALCULATIONS!$B$24,D30)))))) -> 24
A31: ACU_EMAILTEMPLATE | B31: SEQUENCE | C31: INT | F31: =IF(C31="NVARCHAR",[1]CALCULATIONS!$B$28+(D31*2),IF(C31="INT",[1]CALCULATIONS!$B$26,IF(C31="FLOAT",[1]CALCULATIONS!$B$27,IF(C31="DATE",[1]CALCULATIONS!$B$25,IF(C31="VARCHAR",[1]CALCULATIONS!$B$28+D31,IF(C31="GUID",[1]CALCULATIONS!$B$24,D31)))))) -> 4
A32: ACU_EMAILTEMPLATE | B32: LASTUPDATE | C32: DATE | F32: =IF(C32="NVARCHAR",[1]CALCULATIONS!$B$28+(D32*2),IF(C32="INT",[1]CALCULATIONS!$B$26,IF(C32="FLOAT",[1]CALCULATIONS!$B$27,IF(C32="DATE",[1]CALCULATIONS!$B$25,IF(C32="VARCHAR",[1]CALCULATIONS!$B$28+D32,IF(C32="GUID",[1]CALCULATIONS!$B$24,D32)))))) -> 7
A33: ACU_EMAILTEMPLATE | B33: USR_ID | C33: NVARCHAR | D33: 20 | F33: =IF(C33="NVARCHAR",[1]CALCULATIONS!$B$28+(D33*2),IF(C33="INT",[1]CALCULATIONS!$B$26,IF(C33="FLOAT",[1]CALCULATIONS!$B$27,IF(C33="DATE",[1]CALCULATIONS!$B$25,IF(C33="VARCHAR",[1]CALCULATIONS!$B$28+D33,IF(C33="GUID",[1]CALCULATIONS!$B$24,D33)))))) -> 42
A34: ACU_EMAILTEMPLATE | B34: ACU_EMAILTEMPLATE_ID | C34: NVARCHAR | D34: 60 | F34: =IF(C34="NVARCHAR",[1]CALCULATIONS!$B$28+(D34*2),IF(C34="INT",[1]CALCULATIONS!$B$26,IF(C34="FLOAT",[1]CALCULATIONS!$B$27,IF(C34="DATE",[1]CALCULATIONS!$B$25,IF(C34="VARCHAR",[1]CALCULATIONS!$B$28+D34,IF(C34="GUID",[1]CALCULATIONS!$B$24,D34)))))) -> 122
A35: ACU_EMAILTEMPLATE | B35: TEMPLATE | C35: NVARCHAR | D35: 32767 | F35: =IF(C35="NVARCHAR",[1]CALCULATIONS!$B$28+(D35*2),IF(C35="INT",[1]CALCULATIONS!$B$26,IF(C35="FLOAT",[1]CALCULATIONS!$B$27,IF(C35="DATE",[1]CALCULATIONS!$B$25,IF(C35="VARCHAR",[1]CALCULATIONS!$B$28+D35,IF(C35="GUID",[1]CALCULATIONS!$B$24,D35)))))) -> 65536 | G35: =SUM(F30:F35) -> 65735
A37: ACU_FIELDMAPPING | B37: ACU_FIELDMAPPING_UID | C37: GUID | F37: =IF(C37="NVARCHAR",[1]CALCULATIONS!$B$28+(D37*2),IF(C37="INT",[1]CALCULATIONS!$B$26,IF(C37="FLOAT",[1]CALCULATIONS!$B$27,IF(C37="DATE",[1]CALCULATIONS!$B$25,IF(C37="VARCHAR",[1]CALCULATIONS!$B$28+D37,IF(C37="GUID",[1]CALCULATIONS!$B$24,D37)))))) -> 24
A38: ACU_FIELDMAPPING | B38: SEQUENCE | C38: INT | F38: =IF(C38="NVARCHAR",[1]CALCULATIONS!$B$28+(D38*2),IF(C38="INT",[1]CALCULATIONS!$B$26,IF(C38="FLOAT",[1]CALCULATIONS!$B$27,IF(C38="DATE",[1]CALCULATIONS!$B$25,IF(C38="VARCHAR",[1]CALCULATIONS!$B$28+D38,IF(C38="GUID",[1]CALCULATIONS!$B$24,D38)))))) -> 4
A39: ACU_FIELDMAPPING | B39: LASTUPDATE | C39: DATE | F39: =IF(C39="NVARCHAR",[1]CALCULATIONS!$B$28+(D39*2),IF(C39="INT",[1]CALCULATIONS!$B$26,IF(C39="FLOAT",[1]CALCULATIONS!$B$27,IF(C39="DATE",[1]CALCULATIONS!$B$25,IF(C39="VARCHAR",[1]CALCULATIONS!$B$28+D39,IF(C39="GUID",[1]CALCULATIONS!$B$24,D39)))))) -> 7
A40: ACU_FIELDMAPPING | B40: USR_ID | C40: NVARCHAR | D40: 20 | F40: =IF(C40="NVARCHAR",[1]CALCULATIONS!$B$28+(D40*2),IF(C40="INT",[1]CALCULATIONS!$B$26,IF(C40="FLOAT",[1]CALCULATIONS!$B$27,IF(C40="DATE",[1]CALCULATIONS!$B$25,IF(C40="VARCHAR",[1]CALCULATIONS!$B$28+D40,IF(C40="GUID",[1]CALCULATIONS!$B$24,D40)))))) -> 42
A41: ACU_FIELDMAPPING | B41: ACU_FIELDMAPPING_ID | C41: NVARCHAR | D41: 60 | F41: =IF(C41="NVARCHAR",[1]CALCULATIONS!$B$28+(D41*2),IF(C41="INT",[1]CALCULATIONS!$B$26,IF(C41="FLOAT",[1]CALCULATIONS!$B$27,IF(C41="DATE",[1]CALCULATIONS!$B$25,IF(C41="VARCHAR",[1]CALCULATIONS!$B$28+D41,IF(C41="GUID",[1]CALCULATIONS!$B$24,D41)))))) -> 122
A42: ACU_FIELDMAPPING | B42: DESCRIPTION | C42: NVARCHAR | D42: 500 | F42: =IF(C42="NVARCHAR",[1]CALCULATIONS!$B$28+(D42*2),IF(C42="INT",[1]CALCULATIONS!$B$26,IF(C42="FLOAT",[1]CALCULATIONS!$B$27,IF(C42="DATE",[1]CALCULATIONS!$B$25,IF(C42="VARCHAR",[1]CALCULATIONS!$B$28+D42,IF(C42="GUID",[1]CALCULATIONS!$B$24,D42)))))) -> 1002 | G42: =SUM(F37:F42) -> 1201 | H42: Max length is 500, Average data length is about 80
A44: ACU_FIELDMAPPINGFIELD | B44: ACU_FIELDMAPPINGFIELD_UID | C44: GUID | F44: =IF(C44="NVARCHAR",[1]CALCULATIONS!$B$28+(D44*2),IF(C44="INT",[1]CALCULATIONS!$B$26,IF(C44="FLOAT",[1]CALCULATIONS!$B$27,IF(C44="DATE",[1]CALCULATIONS!$B$25,IF(C44="VARCHAR",[1]CALCULATIONS!$B$28+D44,IF(C44="GUID",[1]CALCULATIONS!$B$24,D44)))))) -> 24
A45: ACU_FIELDMAPPINGFIELD | B45: ACU_FIELDMAPPING_UID | C45: GUID | F45: =IF(C45="NVARCHAR",[1]CALCULATIONS!$B$28+(D45*2),IF(C45="INT",[1]CALCULATIONS!$B$26,IF(C45="FLOAT",[1]CALCULATIONS!$B$27,IF(C45="DATE",[1]CALCULATIONS!$B$25,IF(C45="VARCHAR",[1]CALCULATIONS!$B$28+D45,IF(C45="GUID",[1]CALCULATIONS!$B$24,D45)))))) -> 24
A46: ACU_FIELDMAPPINGFIELD | B46: SOURCEFIELD | C46: VARCHAR | D46: 60 | F46: =IF(C46="NVARCHAR",[1]CALCULATIONS!$B$28+(D46*2),IF(C46="INT",[1]CALCULATIONS!$B$26,IF(C46="FLOAT",[1]CALCULATIONS!$B$27,IF(C46="DATE",[1]CALCULATIONS!$B$25,IF(C46="VARCHAR",[1]CALCULATIONS!$B$28+D46,IF(C46="GUID",[1]CALCULATIONS!$B$24,D46)))))) -> 62
...

Sheet INDEXES
A1: TABLE NAME | B1: INDEX | C1: COLUMN NAME | D1: MAX LEN | E1: ROW BYTES
A2: ACU_ACCEPTANCE | B2: PK_ACU_ACCEPTANCE | C2: ACU_ACCEPTANCE_UID | D2: 22
A3: ACU_ACCEPTANCE | B3: IX_ACU_ACCEPTANCE_ID | C3: ACU_ACCEPTANCE_ID | D3: 120 | E3: =SUM(D2:D3) -> 142
A5: ACU_ACCEPTANCEMETRIC | B5: PK_ACU_ACCEPTANCEMETRIC | C5: ACU_ACCEPTANCEMETRIC_UID | D5: 22
A6: ACU_ACCEPTANCEMETRIC | B6: IX_ACU_ACCEPTANCEMETRIC | C6: ACU_ACCEPTANCEMETRIC_UID, ACU_METRIC_UID | D6: 44 | E6: =SUM(D5:D6) -> 66
A8: ACU_BENCHMARK | B8: PK_ACU_BENCHMARK | C8: ACU_BENCHMARK_UID | D8: 22
A9: ACU_BENCHMARK | B9: IX_ACU_BENCHMARK_ID | C9: ACU_BENCHMARK_ID | D9: 120 | E9: =SUM(D8:D9) -> 142
A11: ACU_BENCHMARKVALUE | B11: PK_ACU_BENCHMARKVALUE | C11: ACU_BENCHMARKVALUE_UID | D11: 22
A12: ACU_BENCHMARKVALUE | B12: IX_ACU_BENCHMARKVALUE | C12: ACU_BENCHMARK_UID, ACU_BENCHMARKVALUE_ID | D12: 142 | E12: =SUM(D11:D12) -> 164
A14: ACU_EMAILTEMPLATE | B14: PK_ACU_EMAILTEMPLATE | C14: ACU_EMAILTEMPLATE_UID | D14: 22
A15: ACU_EMAILTEMPLATE | B15: IX_ACU_EMAILTEMPLATE_ID | C15: ACU_EMAILTEMPLATE_ID | D15: 120 | E15: =SUM(D14:D15) -> 142
A17: ACU_FIELDMAPPING | B17: PK_ACU_FIELDMAPPING | C17: ACU_FIELDMAPPING_UID | D17: 22
A18: ACU_FIELDMAPPING | B18: IX_ACU_FIELDMAPPING_ID | C18: ACU_FIELDMAPPING_ID | D18: 120 | E18: =SUM(D17:D18) -> 142
A20: ACU_FIELDMAPPINGFIELD | B20: PK_ACU_FIELDMAPPINGFIELD | C20: ACU_FIELDMAPPINGFIELD_UID | D20: 22
A21: ACU_FIELDMAPPINGFIELD | B21: IX_ACU_FIELDMAPPINGFIELD_SOURC | C21: ACU_FIELDMAPPING_UID, SOURCEFIELD | D21: 82
A22: ACU_FIELDMAPPINGFIELD | B22: IX_ACU_FIELDMAPPINGFIELD_TARGT | C22: ACU_FIELDMAPPING_UID, TARGETFIELD | D22: 82 | E22: =SUM(D20:D22) -> 186
A24: ACU_METRIC | B24: PK_ACU_METRIC | C24: ACU_METRIC_UID | D24: 22
A25: ACU_METRIC | B25: IX_ACU_METRIC_NAME | C25: ACU_METRICGROUP_UID, NAME, TYPE | D25: 426 | E25: =SUM(D24:D25) -> 448
A27: ACU_METRICGROUP | B27: PK_ACU_METRICGROUP | C27: ACU_METRICGROUP_UID | D27: 22
A28: ACU_METRICGROUP | B28: IX_ACU_METRICGROUP_NAME | C28: ACU_METRICGROUP_PARENT_UID, NAME | D28: 244 | E28: =SUM(D27:D28) -> 266
A30: ACU_METRICVARIABLE | B30: PK_ACU_METRICVARIABLE | C30: ACU_METRICVARIABLE_UID | D30: 22
A31: ACU_METRICVARIABLE | B31: IX_ACU_METRICVARIABLE | C31: ACU_METRICVARIABLE_ID | D31: 120 | E31: =SUM(D30:D31) -> 142
A33: ACU_PROGRAM | B33: PK_ACU_PROGRAM | C33: DIR_UID | D33: 22
A34: ACU_PROGRAM (WST_DIR) | B34: PK_WST_DIR | C34: DIR_UID | D34: 22
A35: ACU_PROGRAM (WST_DIR) | B35: IX_DIR_DIR_ID | C35: DIR_ID | D35: 44
A36: ACU_PROGRAM (WST_DIR) | B36: IX_DIR_TABLE_TYPE | C36: TABLE_TYPE | D36: 30 | E36: =SUM(D33:D36) -> 118
A38: ACU_PROGRAMBENCHMARK | B38: PK_ACU_PROGRAMBENCHMARK | C38: ACU_PROGRAMBENCHMARK_UID | D38: 22
A39: ACU_PROGRAMBENCHMARK | B39: IX_ACU_PROGRAMBENCHMARK | C39: DIR_UID, ACU_BENCHMARK_UID | D39: 44 | E39: =SUM(D38:D39) -> 66
A41: ACU_PROGRAMMETRICVARIABLE | B41: PK_ACU_PROGRAMMETRICVARIABLE | C41: ACU_PROGRAMMETRICVARIABLE_UID | D41: 22
A42: ACU_PROGRAMMETRICVARIABLE | B42: IX_ACU_PROGRAMMETRICVARIABLE | C42: DIR_UID, ACU_METRICVARIABLE_UID | D42: 44 | E42: =SUM(D41:D42) -> 66
A44: ACU_PROJECT | B44: PK_ACU_PROJECT | C44: DIR_UID | D44: 22
A45: ACU_PROJECT (WST_DIR) | B45: PK_WST_DIR | C45: DIR_UID | D45: 22
A46: ACU_PROJECT (WST_DIR) | B46: IX_DIR_DIR_ID | C46: DIR_ID | D46: 44
A47: ACU_PROJECT (WST_DIR) | B47: IX_DIR_TABLE_TYPE | C47: TABLE_TYPE | D47: 30
A48: ACU_PROJECT | B48: IX_ACU_PROJECT_PROGRAM_UID | C48: ACU_PROGRAM_UID | D48: 22
A49: ACU_PROJECT | B49: IX_ACU_PROJECT_FIELDMAP_UID | C49: ACU_FIELDMAPPING_UID | D49: 22
A50: ACU_PROJECT | B50: IX_ACU_PROJECT_ACCEPTANCE_UID | C50: ACU_ACCEPTANCE_UID | D50: 22 | E50: =SUM(D44:D50) -> 184
A52: ACU_RPT | B52: PK_ACU_RPT | C52: ACU_RPT_UID | D52: 22
A53: ACU_RPT | B53: IX_ACU_RPT_ID | C53: ACU_RPT_ID | D53: 120 | E53: =SUM(D52:D53) -> 142
A55: ACU_RPT_ACPTNC | B55: PK_ACU_RPT_ACPTNC | C55: ACU_RPT_ACPTNC_UID | D55: 22
...

Sheet TABLES
A1: TABLE | B1: DATA ROW BYTES | C1: INDEX ROW BYTES | D1: TOTAL ROW BYTES
A2: ACU_ACCEPTANCE | B2: =COLUMNS!G9 -> 65743 | C2: =INDEXES!E3 -> 142 | D2: =SUM(B2:C2) -> 65885
A3: ACU_ACCEPTANCEMETRIC | B3: =COLUMNS!G15 -> 82 | C3: =INDEXES!E6 -> 66 | D3: =SUM(B3:C3) -> 148
A4: ACU_BENCHMARK | B4: =COLUMNS!G22 -> 65735 | C4: =INDEXES!E9 -> 142 | D4: =SUM(B4:C4) -> 65877
A5: ACU_BENCHMARKVALUE | B5: =COLUMNS!G28 -> 65710 | C5: =INDEXES!E12 -> 164 | D5: =SUM(B5:C5) -> 65874
A6: ACU_EMAILTEMPLATE | B6: =COLUMNS!G35 -> 65735 | C6: =INDEXES!E15 -> 142 | D6: =SUM(B6:C6) -> 65877
A7: ACU_FIELDMAPPING | B7: =COLUMNS!G42 -> 1201 | C7: =INDEXES!E18 -> 142 | D7: =SUM(B7:C7) -> 1343
A8: ACU_FIELDMAPPINGFIELD | B8: =COLUMNS!G47 -> 172 | C8: =INDEXES!E22 -> 186 | D8: =SUM(B8:C8) -> 358
A9: ACU_METRIC | B9: =COLUMNS!G60 -> 132709 | C9: =INDEXES!E25 -> 448 | D9: =SUM(B9:C9) -> 133157
A10: ACU_METRICGROUP | B10: =COLUMNS!G65 -> 1252 | C10: =INDEXES!E28 -> 266 | D10: =SUM(B10:C10) -> 1518
A11: ACU_METRICVARIABLE | B11: =COLUMNS!G71 -> 707 | C11: =INDEXES!E31 -> 142 | D11: =SUM(B11:C11) -> 849
A12: ACU_PROGRAM | B12: =COLUMNS!G95 -> 1171 | C12: =INDEXES!E36 -> 118 | D12: =SUM(B12:C12) -> 1289
A13: ACU_PROGRAMBENCHMARK | B13: =COLUMNS!G100 -> 96 | C13: =INDEXES!E39 -> 66 | D13: =SUM(B13:C13) -> 162
A14: ACU_PROGRAMMETRICVARIABLE | B14: =COLUMNS!G107 -> 633 | C14: =INDEXES!E42 -> 66 | D14: =SUM(B14:C14) -> 699
A15: ACU_PROJECT | B15: =COLUMNS!G148 -> 1329 | C15: =INDEXES!E50 -> 184 | D15: =SUM(B15:C15) -> 1513
A16: ACU_RPT | B16: =COLUMNS!G162 -> 66148 | C16: =INDEXES!E53 -> 142 | D16: =SUM(B16:C16) -> 66290
A17: ACU_RPT_ACPTNC | B17: =COLUMNS!G166 -> 72 | C17: =INDEXES!E56 -> 66 | D17: =SUM(B17:C17) -> 138
A18: ACU_RPT_BMRK | B18: =COLUMNS!G170 -> 72 | C18: =INDEXES!E59 -> 66 | D18: =SUM(B18:C18) -> 138
A19: ACU_RPT_GLIDE_PATH | B19: =COLUMNS!G175 -> 56 | C19: =INDEXES!E62 -> 48 | D19: =SUM(B19:C19) -> 104
A20: ACU_RPT_SMRY | B20: =COLUMNS!G185 -> 203 | C20: =INDEXES!E65 -> 70 | D20: =SUM(B20:C20) -> 273
A21: ACU_RPT_SMRY_ACPTNC | B21: =COLUMNS!G193 -> 250 | C21: =INDEXES!E68 -> 66 | D21: =SUM(B21:C21) -> 316
A22: ACU_RPT_SMRY_BMRK | B22: =COLUMNS!G203 -> 396 | C22: =INDEXES!E71 -> 66 | D22: =SUM(B22:C22) -> 462
A23: ACU_SNAPSHOT | B23: =COLUMNS!G229 -> 377 | C23: =INDEXES!E74 -> 44 | D23: =SUM(B23:C23) -> 421
A24: ACU_SNAPSHOTBENCHMARK | B24: =COLUMNS!G260 -> 127 | C24: =INDEXES!E77 -> 88 | D24: =SUM(B24:C24) -> 215
A25: ACU_SNAPSHOT (UPLOADED FILE) | B25: =COLUMNS!G237 -> 10486401 | C25: =INDEXES!E117 -> 74 | D25: =SUM(B25:C25) -> 10486475
A26: ACU_SNAPSHOT (REPORT FILE) | B26: =COLUMNS!G245 -> 100641 | C26: =INDEXES!E117 -> 74 | D26: =SUM(B26:C26) -> 100715
A27: ACU_SNAPSHOT (JSON METADATA) | B27: =COLUMNS!G253 -> 10486401 | C27: =INDEXES!E117 -> 74 | D27: =SUM(B27:C27) -> 10486475
A28: ACU_SNPST_MTRC_SCORE | B28: =COLUMNS!G274 -> 67376 | C28: =INDEXES!E80 -> 92 | D28: =SUM(B28:C28) -> 67468
A29: ACU_SNPST_MTRC_TRP_ACT | B29: =COLUMNS!G280 -> 216 | C29: =INDEXES!E83 -> 162 | D29: =SUM(B29:C29) -> 378
A30: FW_CFGProcessQueue | B30: =COLUMNS!G291 -> 734 | C30: =INDEXES!E85 -> 32 | D30: =SUM(B30:C30) -> 766
A31: FW_CFGProcessQueueSetup | B31: =COLUMNS!G302 -> 120 | C31: =INDEXES!E87 -> 4 | D31: =SUM(B31:C31) -> 124
A32: FW_DetailJobs | B32: =COLUMNS!G321 -> 329063 | C32: =INDEXES!E89 -> 96 | D32: =SUM(B32:C32) -> 329159
A33: FW_DetailJobStatus | B33: =COLUMNS!G328 -> 2149 | C33: =INDEXES!E91 -> 132 | D33: =SUM(B33:C33) -> 2281
A34: FW_DetailProfiles | B34: =COLUMNS!G350 -> 328309 | C34: =INDEXES!E93 -> 96 | D34: =SUM(B34:C34) -> 328405
A35: FW_MasterJobs | B35: =COLUMNS!G387 -> 814 | C35: =INDEXES!E96 -> 86 | D35: =SUM(B35:C35) -> 900
A36: FW_MasterProfiles | B36: =COLUMNS!G428 -> 572 | C36: =INDEXES!E98 -> 64 | D36: =SUM(B36:C36) -> 636
A37: OPP_ACT | B37: =COLUMNS!G468 -> 768 | C37: =INDEXES!E103 -> 110 | D37: =SUM(B37:C37) -> 878
A38: OPP_CLC | B38: =COLUMNS!G482 -> 441 | C38: =INDEXES!E106 -> 52 | D38: =SUM(B38:C38) -> 493
A39: OPP_SRT | B39: =COLUMNS!G492 -> 797 | C39: =INDEXES!E110 -> 172 | D39: =SUM(B39:C39) -> 969
A40: OPP_STP | B40: =COLUMNS!G505 -> 246 | C40: =INDEXES!E114 -> 66 | D40: =SUM(B40:C40) -> 312
...

Sheet CALCULATIONS
A1: DATATYPE | B1: TOTAL BYTES | C1: REMARKS
A2: Metrics | B2: ='Database Sizing'!E9*TABLES!D9 -> 42610240 | C2: Number of Metrics * Metric record size
A3: Metric Variables | B3: ='Database Sizing'!E10*TABLES!D11 -> 4245 | C3: Number of Metric Variables * Metric Variable record size
A4: Benchmarks | B4: ='Database Sizing'!E11*TABLES!D4 -> 329385 | C4: Number of Benchmarks * Benchmark record size
A5: Benchmark Values | B5: ='Database Sizing'!E11*'Database Sizing'!E12*TABLES!D5 -> 1646850 | C5: Number of Benchmark Values * Number of Benchmarks * Benchmark Value record size
A6: Acceptance Criteria | B6: ='Database Sizing'!E13*TABLES!D2 -> 329425 | C6: Number of Acceptance Criteria * Acceptance Criteria record size
A7: Acceptance Criteria Metrics | B7: =('Database Sizing'!E14*'Database Sizing'!E13)*TABLES!D3 -> 14800 | C7: Number of Acceptance Criteria Metrics * Number of Acceptance Criteria * Acceptance Criteria Metric record size
A8: Acceptance Criteria Access Control | B8: =('Database Sizing'!E13*'Database Sizing'!E20)*TABLES!D43 -> 7550 | C8: Number of Acceptance Criteria * Number of Access Control Records * Access Control record size
A9: Programs | B9: ='Database Sizing'!E15*TABLES!D12 -> 6445 | C9: Number of Programs * Program record size
A10: Program Benchmarks | B10: =('Database Sizing'!E16*'Database Sizing'!E15)*TABLES!D13 -> 4050 | C10: Number of Program Benchmarks * Number of Programs * ProgramBenchmark record size
A11: Program Projects | B11: =('Database Sizing'!E17*'Database Sizing'!E15)*TABLES!D15 -> 37825 | C11: Number of Projects * Number of Programs * Project record size
A12: Program Metric Variables | B12: =('Database Sizing'!E10*'Database Sizing'!E15)*TABLES!D11 -> 21225 | C12: Number of Programs * Number of Metric Variables * Metric Variable record size
A13: Program Access Control | B13: =('Database Sizing'!E15*'Database Sizing'!E20)*TABLES!D43 -> 7550 | C13: Number of Programs * Number of Access Control Records * Access Control record size
A14: Projects | B14: =('Database Sizing'!E17*'Database Sizing'!E15)*TABLES!D15 -> 37825 | C14: Number of Projects * Number of Programs * Project record size
A15: Project Access Control | B15: =('Database Sizing'!E15*'Database Sizing'!E20*'Database Sizing'!E17)*TABLES!D43 -> 37750 | C15: Number of Projects * Number of Programs * Number of Access Control Records * Access Control record size
A16: Field Mappings | B16: ='Database Sizing'!E21*TABLES!D7 -> 6715 | C16: Number of Field Mappings * Field Mapping record size
A17: Field Mappings - Field Mapping Fields | B17: =('Database Sizing'!E21*'Database Sizing'!E22)*TABLES!D8 -> 8950 | C17: Number of Field Mappings * Number of Field Mapping Fields * Field Mapping Field record size
A18: Field Mappings Access Control | B18: =('Database Sizing'!E21*'Database Sizing'!E20)*TABLES!D43 -> 7550 | C18: Number of Field Mappings * Number of Access Control Records * Access Control record size
A19: General - Email Footer Templates | B19: ='Database Sizing'!E23*TABLES!D6 -> 329385 | C19: Number of Email Footer Templates * Email Footer Template record size
A20: Project Snapshots | B20: =B27*TABLES!D23 -> 126300 | C20: Snapshot Upload Count * Snapshot record size
A21: Project Snapshot Benchmarks | B21: =(B27*'Database Sizing'!E16)*TABLES!D24 -> 322500 | C21: Snapshot Upload Count * Number of Program Benchmarks * SnapshotBenchmark record size
A22: Project Snapshot Uploads | B22: =(B27*((TABLES!D25)+('Database Sizing'!E19*(1024*1024)))) -> 6291670500 | C22: Snapshot Upload Count * (Snapshot Upload File record size + Submittal Upload file size in bytes)
A23: Project Snapshot Reports | B23: =(B27*TABLES!D26) -> 30214500 | C23: Snapshot Upload Count * Snapshot Report File record size
A24: Project Snapshot JSON Metadata | B24: =(B27*((TABLES!D27)+('Database Sizing'!E19*(1024*1024)))) -> 6291670500 | C24: Snapshot Upload Count * (Snapshot JSON Metadata record size + Submittal Upload file size in bytes)
A27: Snapshot Upload Count | B27: =IF('Database Sizing'!E18="Weekly",52,IF('Database Sizing'!E18="BiWeekly",26,IF('Database Sizing'!E18="Monthly",12,0)))*('Database Sizing'!E15*'Database Sizing'!E17) -> 300 | C27: Submittal Frequency * Number of Projects * Number of Programs
A31: Frequency Values | B31: Weekly
B32: BiWeekly
B33: Monthly
A37: Benchmark Reports (Including Glide Path) | B37: ='Database Sizing'!E24*(TABLES!D16+TABLES!D19) -> 331970 | C37: Number of Reporting Records * (Reporting Records record size + Glide Path record size)
A38: Benchmark Reports - Acceptance Associations | B38: ='Database Sizing'!E25 * 'Database Sizing'!E24 * TABLES!D17 -> 3450 | C38: Number of Acceptance Reporting Associations * Number of Reporting Records * Acceptance Reporting Associations record size
A39: Benchmark Reports - Benchmark Attribute Associations | B39: ='Database Sizing'!E26 * 'Database Sizing'!E24 * TABLES!D18 -> 3450 | C39: Number of Benchmark Reporting Associations * Number of Reporting Records * Benchmark Reporting Associations record size
A40: Benchmark Reports - Summary Data | B40: ='Database Sizing'!E27 * 'Database Sizing'!E24 * TABLES!D20 -> 13650 | C40: Number of Report Summary Data * Number of Reporting Records * Report Summary Data record size
A41: Benchmark Reports - Summary Data - Acceptance Scores | B41: ='Database Sizing'!E28 * 'Database Sizing'!E24 * TABLES!D21 -> 79000 | C41: Number of Report Summary Data Acceptance Scores * Number of Reporting Records * Report Summary Data Acceptance Scores record size
A42: Benchmark Reports - Summary Data - Benchmark Attribute Scores | B42: ='Database Sizing'!E29 * 'Database Sizing'!E24 * TABLES!D22 -> 115500 | C42: Number of Report Summary Data Benchmark Attribute Scores * Number of Reporting Records * Report Summary Data Benchmark Attribute Scores record size
A43: Benchmark Reports - Summary Data - Snapshot Metric Scores | B43: ='Database Sizing'!E30 * 'Database Sizing'!E24 * TABLES!D28 -> 337340000 | C43: Number of Report Summary Data Snapshot Metric Scores * Number of Reporting Records * Snapshot Metric Scores record size
A47: GUID column bytes | B47: 24 | C47: 22 Bytes for the value + 2 bytes to store the length of the value
A48: DATE column bytes | B48: 7 | C48: Oracle is 7 Bytes, SQL Server is 3 Bytes
A49: INT column bytes | B49: 4 | C49: SQL Server is 4 Bytes,
A50: FLOAT column bytes | B50: 8 | C50: SQL Server is 8 Bytes, Oracle is a variable length between 1 and 22 bytes.
A51: (N)VARCHAR column bytes | B51: 2 | C51: (N)VARCHAR columns add 2 bytes to column length to store the length of the value
...
