Workbook
Name NVARCHAR2_Column_Type: COLUMNS!#REF!

Sheet Database Sizing
A1: Acumen Touchstone 8.11.3 Database Sizing Utility
A3: This spreadsheet can be used to estimate the database size required to support your use of Acumen Touchstone.
A4: Change the values in the Parameters column to calculate the total database size.
A5: Note: This is only a guide for estimation purposes. It is not an exact calculation of size due to variations in the average size of actual data.
E8: Parameters
A9: Number of Metrics | E9: 320
A10: Number of Metric Variables | E10: 5
A11: Number of Benchmarks | E11: 5
A12: Number of Benchmark Attribute Values Per Benchmark | E12: 5
A13: Number of Accceptance Criteria | E13: 5
A14: Number of Metrics Per Acceptance Criteria | E14: 20
A15: Number of Programs | E15: 5
A16: Number of Benchmarks Per Program | E16: 5
A17: Number of Projects Per Program | E17: 5
A18: Submittal Frequency | E18: Monthly
A19: Average Submittal Project Size In MB | E19: 10
A20: Number of Access Control Records (per Record) | E20: 5
A21: Number of Field Mappings | E21: 5
A22: Number of Field Mapping Fields (per Field Mapping Record) | E22: 5
A23: Number of Email Footer Templates | E23: 5
A24: Number of Reporting Records | E24: 5
A25: Number of Acceptance Reporting Associations (per Reporting Record) | E25: 5
A26: Number of Benchmark Reporting Associations (per Reporting Record) | E26: 5
A27: Number of Report Summary Data (per Reporting Record) | E27: 10
A28: Number of Report Summary Data - Acceptance Scores | E28: 50
A29: Number of Report Summary Data - Benchmark Attribute Scores | E29: 50
A30: Number of Report Summary Data - Snapshot Metric Scores | E30: 1000
D34: Initial | E34: Next 12 months
A35: Estimated Database Size (bytes) | D35: =SUM(CALCULATIONS!B2:B19)+CALCULATIONS!B57 -> 67750316 | E35: =SUM(CALCULATIONS!B2:B24)+SUM(CALCULATIONS!B37:B43)+CALCULATIONS!B57 -> 13019641636
A36: Plus 10% other data | D36: =SUM(CALCULATIONS!B2:B19)*0.1 -> 4544776.5 | E36: =(SUM(CALCULATIONS!B2:B24)+SUM(CALCULATIONS!B37:B43))*0.1 -> 1.2997339e+09
A37: Total | D37: =SUM(D35:D36) -> 72295092 | E37: =SUM(E35:E36) -> 1.4319376e+10
A38: Total (in MB) | D38: =SUM(D35:D36)/(1024*1024) -> 68.945973 | E38: =SUM(E35:E36)/(1024*1024) -> 13656.021

Sheet COLUMNS
A1: TABLE_NAME | B1: COLUMN_NAME | C1: DATATYPE | D1: MAX LENGTH | F1: DB BYTES | G1: ROW_BYTES | H1: REMARKS
A2: ACU_ACCEPTANCE | B2: ACU_ACCEPTANCE_UID | C2: GUID | F2: =IF(C2="NVARCHAR",CALCULATIONS!$B$51+(D2*2),IF(C2="INT",[1]CALCULATIONS!$B$26,IF(C2="FLOAT",[1]CALCULATIONS!$B$27,IF(C2="DATE",[1]CALCULATIONS!$B$25,IF(C2="VARCHAR",[1]CALCULATIONS!$B$28+D2,IF(C2="GUID",[1]CALCULATIONS!$B$24,D2)))))) -> 24
A3: ACU_ACCEPTANCE | B3: SEQUENCE | C3: INT | F3: =IF(C3="NVARCHAR",[1]CALCULATIONS!$B$28+(D3*2),IF(C3="INT",[1]CALCULATIONS!$B$26,IF(C3="FLOAT",[1]CALCULATIONS!$B$27,IF(C3="DATE",[1]CALCULATIONS!$B$25,IF(C3="VARCHAR",[1]CALCULATIONS!$B$28+D3,IF(C3="GUID",[1]CALCULATIONS!$B$24,D3)))))) -> 4
A4: ACU_ACCEPTANCE | B4: SCORINGMETHOD | C4: INT | F4: =IF(C4="NVARCHAR",[1]CALCULATIONS!$B$28+(D4*2),IF(C4="INT",[1]CALCULATIONS!$B$26,IF(C4="FLOAT",[1]CALCULATIONS!$B$27,IF(C4="DATE",[1]CALCULATIONS!$B$25,IF(C4="VARCHAR",[1]CALCULATIONS!$B$28+D4,IF(C4="GUID",[1]CALCULATIONS!$B$24,D4)))))) -> 4
A5: ACU_ACCEPTANCE | B5: MINIMUMSCORE | C5: INT | F5: =IF(C5="NVARCHAR",[1]CALCULATIONS!$B$28+(D5*2),IF(C5="INT",[1]CALCULATIONS!$B$26,IF(C5="FLOAT",[1]CALCULATIONS!$B$27,IF(C5="DATE",[1]CALCULATIONS!$B$25,IF(C5="VARCHAR",[1]CALCULATIONS!$B$28+D5,IF(C5="GUID",[1]CALCULATIONS!$B$24,D5)))))) -> 4
A6: ACU_ACCEPTANCE | B6: LASTUPDATE | C6: DATE | F6: =IF(C6="NVARCHAR",[1]CALCULATIONS!$B$28+(D6*2),IF(C6="INT",[1]CALCULATIONS!$B$26,IF(C6="FLOAT",[1]CALCULATIONS!$B$27,IF(C6="DATE",[1]CALCULATIONS!$B$25,IF(C6="VARCHAR",[1]CALCULATIONS!$B$28+D6,IF(C6="GUID",[1]CALCULATIONS!$B$24,D6)))))) -> 7
A7: ACU_ACCEPTANCE | B7: USR_ID | C7: NVARCHAR | D7: 20 | F7: =IF(C7="NVARCHAR",[1]CALCULATIONS!$B$28+(D7*2),IF(C7="INT",[1]CALCULATIONS!$B$26,IF(C7="FLOAT",[1]CALCULATIONS!$B$27,IF(C7="DATE",[1]CALCULATIONS!$B$25,IF(C7="VARCHAR",[1]CALCULATIONS!$B$28+D7,IF(C7="GUID",[1]CALCULATIONS!$B$24,D7)))))) -> 42
A8: ACU_ACCEPTANCE | B8: ACU_ACCEPTANCE_ID | C8: NVARCHAR | D8: 60 | F8: =IF(C8="NVARCHAR",[1]CALCULATIONS!$B$28+(D8*2),IF(C8="INT",[1]CALCULATIONS!$B$26,IF(C8="FLOAT",[1]CALCULATIONS!$B$27,IF(C8="DATE",[1]CALCULATIONS!$B$25,IF(C8="VARCHAR",[1]CALCULATIONS!$B$28+D8,IF(C8="GUID",[1]CALCULATIONS!$B$24,D8)))))) -> 122
A9: ACU_ACCEPTANCE | B9: REMARKS | C9: NVARCHAR | D9: 32767 | F9: =IF(C9="NVARCHAR",[1]CALCULATIONS!$B$28+(D9*2),IF(C9="INT",[1]CALCULATIONS!$B$26,IF(C9="FLOAT",[1]CALCULATIONS!$B$27,IF(C9="DATE",[1]CALCULATIONS!$B$25,IF(C9="VARCHAR",[1]CALCULATIONS!$B$28+D9,IF(C9="GUID",[1]CALCULATIONS!$B$24,D9)))))) -> 65536 | G9: =SUM(F2:F9) -> 65743 | H9: Max length is 32767, Average data length is about 100
A11: ACU_ACCEPTANCEMETRIC | B11: ACU_ACCEPTANCEMETRIC_UID | C11: GUID | F11: =IF(C11="NVARCHAR",[1]CALCULATIONS!$B$28+(D11*2),IF(C11="INT",[1]CALCULATIONS!$B$26,IF(C11="FLOAT",[1]CALCULATIONS!$B$27,IF(C11="DATE",[1]CALCULATIONS!$B$25,IF(C11="VARCHAR",[1]CALCULATIONS!$B$28+D11,IF(C11="GUID",[1]CALCULATIONS!$B$24,D11)))))) -> 24
A12: ACU_ACCEPTANCEMETRIC | B12: ACU_ACCEPTANCE_UID | C12: GUID | F12: =IF(C12="NVARCHAR",[1]CALCULATIONS!$B$28+(D12*2),IF(C12="INT",[1]CALCULATIONS!$B$26,IF(C12="FLOAT",[1]CALCULATIONS!$B$27,IF(C12="DATE",[1]CALCULATIONS!$B$25,IF(C12="VARCHAR",[1]CALCULATIONS!$B$28+D12,IF(C12="GUID",[1]CALCULATIONS!$B$24,D12)))))) -> 24
A13: ACU_ACCEPTANCEMETRIC | B13: ACU_METRIC_UID | C13: GUID | F13: =IF(C13="NVARCHAR",[1]CALCULATIONS!$B$28+(D13*2),IF(C13="INT",[1]CALCULATIONS!$B$26,IF(C13="FLOAT",[1]CALCULATIONS!$B$27,IF(C13="DATE",[1]CALCULATIONS!$B$25,IF(C13="VARCHAR",[1]CALCULATIONS!$B$28+D13,IF(C13="GUID",[1]CALCULATIONS!$B$24,D13)))))) -> 24
A14: ACU_ACCEPTANCEMETRIC | B14: WEIGHT | C14: INT | F14: =IF(C14="NVARCHAR",[1]CALCULATIONS!$B$28+(D14*2),IF(C14="INT",[1]CALCULATIONS!$B$26,IF(C14="FLOAT",[1]CALCULATIONS!$B$27,IF(C14="DATE",[1]CALCULATIONS!$B$25,IF(C14="VARCHAR",[1]CALCULATIONS!$B$28+D14,IF(C14="GUID",[1]CALCULATIONS!$B$24,D14)))))) -> 4
A15: ACU_ACCEPTANCEMETRIC | B15: REJECTSUBMITWHENFAIL | C15: VARCHAR | D15: 4 | F15: =IF(C15="NVARCHAR",[1]CALCULATIONS!$B$28+(D15*2),IF(C15="INT",[1]CALCULATIONS!$B$26,IF(C15="FLOAT",[1]CALCULATIONS!$B$27,IF(C15="DATE",[1]CALCULATIONS!$B$25,IF(C15="VARCHAR",[1]CALCULATIONS!$B$28+D15,IF(C15="GUID",[1]CALCULATIONS!$B$24,D15)))))) -> 6 | G15: =SUM(F11:F15) -> 82
A17: ACU_BENCHMARK | B17: ACU_BENCHMARK_UID | C17: GUID | F17: =IF(C17="NVARCHAR",[1]CALCULATIONS!$B$28+(D17*2),IF(C17="INT",[1]CALCULATIONS!$B$26,IF(C17="FLOAT",[1]CALCULATIONS!$B$27,IF(C17="DATE",[1]CALCULATIONS!$B$25,IF(C17="VARCHAR",[1]CALCULATIONS!$B$28+D17,IF(C17="GUID",[1]CALCULATIONS!$B$24,D17)))))) -> 24
A18: ACU_BENCHMARK | B18: SEQUENCE | C18: INT | F18: =IF(C18="NVARCHAR",[1]CALCULATIONS!$B$28+(D18*2),IF(C18="INT",[1]CALCULATIONS!$B$26,IF(C18="FLOAT",[1]CALCULATIONS!$B$27,IF(C18="DATE",[1]CALCULATIONS!$B$25,IF(C18="VARCHAR",[1]CALCULATIONS!$B$28+D18,IF(C18="GUID",[1]CALCULATIONS!$B$24,D18)))))) -> 4
A19: ACU_BENCHMARK | B19: LASTUPDATE | C19: DATE | F19: =IF(C19="NVARCHAR",[1]CALCULATIONS!$B$28+(D19*2),IF(C19="INT",[1]CALCULATIONS!$B$26,IF(C19="FLOAT",[1]CALCULATIONS!$B$27,IF(C19="DATE",[1]CALCULATIONS!$B$25,IF(C19="VARCHAR",[1]CALCULATIONS!$B$28+D19,IF(C19="GUID",[1]CALCULATIONS!$B$24,D19)))))) -> 7
A20: ACU_BENCHMARK | B20: USR_ID | C20: NVARCHAR | D20: 20 | F20: =IF(C20="NVARCHAR",[1]CALCULATIONS!$B$28+(D20*2),IF(C20="INT",[1]CALCULATIONS!$B$26,IF(C20="FLOAT",[1]CALCULATIONS!$B$27,IF(C20="DATE",[1]CALCULATIONS!$B$25,IF(C20="VARCHAR",[1]CALCULATIONS!$B$28+D20,IF(C20="GUID",[1]CALCULATIONS!$B$24,D20)))))) -> 42
A21: ACU_BENCHMARK | B21: ACU_BENCHMARK_ID | C21: NVARCHAR | D21: 60 | F21: =IF(C21="NVARCHAR",[1]CALCULATIONS!$B$28+(D21*2),IF(C21="INT",[1]CALCULATIONS!$B$26,IF(C21="FLOAT",[1]CALCULATIONS!$B$27,IF(C21="DATE",[1]CALCULATIONS!$B$25,IF(C21="VARCHAR",[1]CALCULATIONS!$B$28+D21,IF(C21="GUID",[1]CALCULATIONS!$B$24,D21)))))) -> 122
A22: ACU_BENCHMARK | B22: REMARKS | C22: NVARCHAR | D22: 32767 | F22: =IF(C22="NVARCHAR",[1]CALCULATIONS!$B$28+(D22*2),IF(C22="INT",[1]CALCULATIONS!$B$26,IF(C22="FLOAT",[1]CALCULATIONS!$B$27,IF(C22="DATE",[1]CALCULATIONS!$B$25,IF(C22="VARCHAR",[1]CALCULATIONS!$B$28+D22,IF(C22="GUID",[1]CALCULATIONS!$B$24,D22)))))) -> 65536 | G22: =SUM(F17:F22) -> 65735
A24: ACU_BENCHMARKVALUE | B24: ACU_BENCHMARKVALUE_UID | C24: GUID | F24: =IF(C24="NVARCHAR",[1]CALCULATIONS!$B$28+(D24*2),IF(C24="INT",[1]CALCULATIONS!$B$26,IF(C24="FLOAT",[1]CALCULATIONS!$B$27,IF(C24="DATE",[1]CALCULATIONS!$B$25,IF(C24="VARCHAR",[1]CALCULATIONS!$B$28+D24,IF(C24="GUID",[1]CALCULATIONS!$B$24,D24)))))) -> 24
A25: ACU_BENCHMARKVALUE | B25: ACU_BENCHMARK_UID | C25: GUID | F25: =IF(C25="NVARCHAR",[1]CALCULATIONS!$B$28+(D25*2),IF(C25="INT",[1]CALCULATIONS!$B$26,IF(C25="FLOAT",[1]CALCULATIONS!$B$27,IF(C25="DATE",[1]CALCULATIONS!$B$25,IF(C25="VARCHAR",[1]CALCULATIONS!$B$28+D25,IF(C25="GUID",[1]CALCULATIONS!$B$24,D25)))))) -> 24
A26: ACU_BENCHMARKVALUE | B26: VALUE | C26: INT | F26: =IF(C26="NVARCHAR",[1]CALCULATIONS!$B$28+(D26*2),IF(C26="INT",[1]CALCULATIONS!$B$26,IF(C26="FLOAT",[1]CALCULATIONS!$B$27,IF(C26="DATE",[1]CALCULATIONS!$B$25,IF(C26="VARCHAR",[1]CALCULATIONS!$B$28+D26,IF(C26="GUID",[1]CALCULATIONS!$B$24,D26)))))) -> 4
A27: ACU_BENCHMARKVALUE | B27: ACU_BENCHMARKVALUE_ID | C27: NVARCHAR | D27: 60 | F27: =IF(C27="NVARCHAR",[1]CALCULATIONS!$B$28+(D27*2),IF(C27="INT",[1]CALCULATIONS!$B$26,IF(C27="FLOAT",[1]CALCULATIONS!$B$27,IF(C27="DATE",[1]CALCULATIONS!$B$25,IF(C27="VARCHAR",[1]CALCULATIONS!$B$28+D27,IF(C27="GUID",[1]CALCULATIONS!$B$24,D27)))))) -> 122
A28: ACU_BENCHMARKVALUE | B28: SUGGESTION | C28: NVARCHAR | D28: 32767 | F28: =IF(C28="NVARCHAR",[1]CALCULATIONS!$B$28+(D28*2),IF(C28="INT",[1]CALCULATIONS!$B$26,IF(C28="FLOAT",[1]CALCULATIONS!$B$27,IF(C28="DATE",[1]CALCULATIONS!$B$25,IF(C28="VARCHAR",[1]CALCULATIONS!$B$28+D28,IF(C28="GUID",[1]CALCULATIONS!$B$24,D28)))))) -> 65536 | G28: =SUM(F24:F28) -> 65710
A30: ACU_EMAILTEMPLATE | B30: ACU_EMAILTEMPLATE_UID | C30: GUID | F30: =IF(C30="NVARCHAR",[1]CALCULATIONS!$B$28+(D30*2),IF(C30="INT",[1]CALCULATIONS!$B$26,IF(C30="FLOAT",[1]CALCULATIONS!$B$27,IF(C30="DATE",[1]CALCULATIONS!$B$25,IF(C30="VARCHAR",[1]CALCULATIONS!$B$28+D30,IF(C30="GUID",[1]CALCULATIONS!$B$24,D30)))))) -> 24
A31: ACU_EMAILTEMPLATE | B31: SEQUENCE | C31: INT | F31: =IF(C31="NVARCHAR",[1]CALCULATIONS!$B$28+(D31*2),IF(C31="INT",[1]CALCULATIONS!$B$26,IF(C31="FLOAT",[1]CALCULATIONS!$B$27,IF(C31="DATE",[1]CALCULATIONS!$B$25,IF(C31="VARCHAR",[1]CALCULATIONS!$B$28+D31,IF(C31="GUID",[1]CALCULATIONS!$B$24,D31)))))) -> 4
A32: ACU_EMAILTEMPLATE | B32: LASTUPDATE | C32: DATE | F32: =IF(C32="NVARCHAR",[1]CALCULATIONS!$B$28+(D32*2),IF(C32="INT",[1]CALCULATIONS!$B$26,IF(C32="FLOAT",[1]CALCULATIONS!$B$27,IF(C32="DATE",[1]CALCULATIONS!$B$25,IF(C32="VARCHAR",[1]CALCULATIONS!$B$28+D32,IF(C32="GUID",[1]CALCULATIONS!$B$24,D32)))))) -> 7
A33: ACU_EMAILTEMPLATE | B33: USR_ID | C33: NVARCHAR | D33: 20 | F33: =IF(C33="NVARCHAR",[1]CALCULATIONS!$B$28+(D33*2),IF(C33="INT",[1]CALCULATIONS!$B$26,IF(C33="FLOAT",[1]CALCULATIONS!$B$27,IF(C33="DATE",[1]CALCULATIONS!$B$25,IF(C33="VARCHAR",[1]CALCULATIONS!$B$28+D33,IF(C33="GUID",[1]CALCULATIONS!$B$24,D33)))))) -> 42
A34: ACU_EMAILTEMPLATE | B34: ACU_EMAILTEMPLATE_ID | C34: NVARCHAR | D34: 60 | F34: =IF(C34="NVARCHAR",[1]CALCULATIONS!$B$28+(D34*2),IF(C34="INT",[1]CALCULATIONS!$B$26,IF(C34="FLOAT",[1]CALCULATIONS!$B$27,IF(C34="DATE",[1]CALCULATIONS!$B$25,IF(C34="VARCHAR",[1]CALCULATIONS!$B$28+D34,IF(C34="GUID",[1]CALCULATIONS!$B$24,D34)))))) -> 122
A35: ACU_EMAILTEMPLATE | B35: TEMPLATE | C35: NVARCHAR | D35: 32767 | F35: =IF(C35="NVARCHAR",[1]CALCULATIONS!$B$28+(D35*2),IF(C35="INT",[1]CALCULATIONS!$B$26,IF(C35="FLOAT",[1]CALCULATIONS!$B$27,IF(C35="DATE",[1]CALCULATIONS!$B$25,IF(C35="VARCHAR",[1]CALCULATIONS!$B$28+D35,IF(C35="GUID",[1]CALCULATIONS!$B$24,D35)))))) -> 65536 | G35: =SUM(F30:F35) -> 65735
A37: ACU_FIELDMAPPING | B37: ACU_FIELDMAPPING_UID | C37: GUID | F37: =IF(C37="NVARCHAR",[1]CALCULATIONS!$B$28+(D37*2),IF(C37="INT",[1]CALCULATIONS!$B$26,IF(C37="FLOAT",[1]CALCULATIONS!$B$27,IF(C37="DATE",[1]CALCULATIONS!$B$25,IF(C37="VARCHAR",[1]CALCULATIONS!$B$28+D37,IF(C37="GUID",[1]CALCULATIONS!$B$24,D37)))))) -> 24
A38: ACU_FIELDMAPPING | B38: SEQUENCE | C38: INT | F38: =IF(C38="NVARCHAR",[1]CALCULATIONS!$B$28+(D38*2),IF(C38="INT",[1]CALCULATIONS!$B$26,IF(C38="FLOAT",[1]CALCULATIONS!$B$27,IF(C38="DATE",[1]CALCULATIONS!$B$25,IF(C38="VARCHAR",[1]CALCULATIONS!$B$28+D38,IF(C38="GUID",[1]CALCULATIONS!$B$24,D38)))))) -> 4
A39: ACU_FIELDMAPPING | B39: LASTUPDATE | C39: DATE | F39: =IF(C39="NVARCHAR",[1]CALCULATIONS!$B$28+(D39*2),IF(C39="INT",[1]CALCULATIONS!$B$26,IF(C39="FLOAT",[1]CALCULATIONS!$B$27,IF(C39="DATE",[1]CALCULATIONS!$B$25,IF(C39="VARCHAR",[1]CALCULATIONS!$B$28+D39,IF(C39="GUID",[1]CALCULATIONS!$B$24,D39)))))) -> 7
A40: ACU_FIELDMAPPING | B40: USR_ID | C40: NVARCHAR | D40: 20 | F40: =IF(C40="NVARCHAR",[1]CALCULATIONS!$B$28+(D40*2),IF(C40="INT",[1]CALCULATIONS!$B$26,IF(C40="FLOAT",[1]CALCULATIONS!$B$27,IF(C40="DATE",[1]CALCULATIONS!$B$25,IF(C40="VARCHAR",[1]CALCULATIONS!$B$28+D40,IF(C40="GUID",[1]CALCULATIONS!$B$24,D40)))))) -> 42
A41: ACU_FIELDMAPPING | B41: ACU_FIELDMAPPING_ID | C41: NVARCHAR | D41: 60 | F41: =IF(C41="NVARCHAR",[1]CALCULATIONS!$B$28+(D41*2),IF(C41="INT",[1]CALCULATIONS!$B$26,IF(C41="FLOAT",[1]CALCULATIONS!$B$27,IF(C41="DATE",[1]CALCULATIONS!$B$25,IF(C41="VARCHAR",[1]CALCULATIONS!$B$28+D41,IF(C41="GUID",[1]CALCULATIONS!$B$24,D41)))))) -> 122
A42: ACU_FIELDMAPPING | B42: DESCRIPTION | C42: NVARCHAR | D42: 500 | F42: =IF(C42="NVARCHAR",[1]CALCULATIONS!$B$28+(D42*2),IF(C42="INT",[1]CALCULATIONS!$B$26,IF(C42="FLOAT",[1]CALCULATIONS!$B$27,IF(C42="DATE",[1]CALCULATIONS!$B$25,IF(C42="VARCHAR",[1]CALCULATIONS!$B$28+D42,IF(C42="GUID",[1]CALCULATIONS!$B$24,D42)))))) -> 1002 | G42: =SUM(F37:F42) -> 1201 | H42: Max length is 500, Average data length is about 80
A44: ACU_FIELDMAPPINGFIELD | B44: ACU_FIELDMAPPINGFIELD_UID | C44: GUID | F44: =IF(C44="NVARCHAR",[1]CALCULATIONS!$B$28+(D44*2),IF(C44="INT",[1]CALCULATIONS!$B$26,IF(C44="FLOAT",[1]CALCULATIONS!$B$27,IF(C44="DATE",[1]CALCULATIONS!$B$25,IF(C44="VARCHAR",[1]CALCULATIONS!$B$28+D44,IF(C44="GUID",[1]CALCULATIONS!$B$24,D44)))))) -> 24
A45: ACU_FIELDMAPPINGFIELD | B45: ACU_FIELDMAPPING_UID | C45: GUID | F45: =IF(C45="NVARCHAR",[1]CALCULATIONS!$B$28+(D45*2),IF(C45="INT",[1]CALCULATIONS!$B$26,IF(C45="FLOAT",[1]CALCULATIONS!$B$27,IF(C45="DATE",[1]CALCULATIONS!$B$25,IF(C45="VARCHAR",[1]CALCULATIONS!$B$28+D45,IF(C45="GUID",[1]CALCULATIONS!$B$24,D45)))))) -> 24
A46: ACU_FIELDMAPPINGFIELD | B46: SOURCEFIELD | C46: VARCHAR | D46: 60 | F46: =IF(C46="NVARCHAR",[1]CALCULATIONS!$B$28+(D46*2),IF(C46="INT",[1]CALCULATIONS!$B$26,IF(C46="FLOAT",[1]CALCULATIONS!$B$27,IF(C46="DATE",[1]CALCULATIONS!$B$25,IF(C46="VARCHAR",[1]CALCULATIONS!$B$28+D46,IF(C46="GUID",[1]CALCULATIONS!$B$24,D46)))))) -> 62
A47: ACU_FIELDMAPPINGFIELD | B47: TARGETFIELD | C47: VARCHAR | D47: 60 | F47: =IF(C47="NVARCHAR",[1]CALCULATIONS!$B$28+(D47*2),IF(C47="INT",[1]CALCULATIONS!$B$26,IF(C47="FLOAT",[1]CALCULATIONS!$B$27,IF(C47="DATE",[1]CALCULATIONS!$B$25,IF(C47="VARCHAR",[1]CALCULATIONS!$B$28+D47,IF(C47="GUID",[1]CALCULATIONS!$B$24,D47)))))) -> 62 | G47: =SUM(F44:F47) -> 172
A49: ACU_METRIC | B49: ACU_METRIC_UID | C49: GUID | F49: =IF(C49="NVARCHAR",[1]CALCULATIONS!$B$28+(D49*2),IF(C49="INT",[1]CALCULATIONS!$B$26,IF(C49="FLOAT",[1]CALCULATIONS!$B$27,IF(C49="DATE",[1]CALCULATIONS!$B$25,IF(C49="VARCHAR",[1]CALCULATIONS!$B$28+D49,IF(C49="GUID",[1]CALCULATIONS!$B$24,D49)))))) -> 24
A50: ACU_METRIC | B50: ACU_METRICGROUP_UID | C50: GUID | F50: =IF(C50="NVARCHAR",[1]CALCULATIONS!$B$28+(D50*2),IF(C50="INT",[1]CALCULATIONS!$B$26,IF(C50="FLOAT",[1]CALCULATIONS!$B$27,IF(C50="DATE",[1]CALCULATIONS!$B$25,IF(C50="VARCHAR",[1]CALCULATIONS!$B$28+D50,IF(C50="GUID",[1]CALCULATIONS!$B$24,D50)))))) -> 24
A51: ACU_METRIC | B51: SEQUENCE | C51: INT | F51: =IF(C51="NVARCHAR",[1]CALCULATIONS!$B$28+(D51*2),IF(C51="INT",[1]CALCULATIONS!$B$26,IF(C51="FLOAT",[1]CALCULATIONS!$B$27,IF(C51="DATE",[1]CALCULATIONS!$B$25,IF(C51="VARCHAR",[1]CALCULATIONS!$B$28+D51,IF(C51="GUID",[1]CALCULATIONS!$B$24,D51)))))) -> 4
A52: ACU_METRIC | B52: VERSION | C52: INT | F52: =IF(C52="NVARCHAR",[1]CALCULATIONS!$B$28+(D52*2),IF(C52="INT",[1]CALCULATIONS!$B$26,IF(C52="FLOAT",[1]CALCULATIONS!$B$27,IF(C52="DATE",[1]CALCULATIONS!$B$25,IF(C52="VARCHAR",[1]CALCULATIONS!$B$28+D52,IF(C52="GUID",[1]CALCULATIONS!$B$24,D52)))))) -> 4
A53: ACU_METRIC | B53: LASTUPDATE | C53: DATE | F53: =IF(C53="NVARCHAR",[1]CALCULATIONS!$B$28+(D53*2),IF(C53="INT",[1]CALCULATIONS!$B$26,IF(C53="FLOAT",[1]CALCULATIONS!$B$27,IF(C53="DATE",[1]CALCULATIONS!$B$25,IF(C53="VARCHAR",[1]CALCULATIONS!$B$28+D53,IF(C53="GUID",[1]CALCULATIONS!$B$24,D53)))))) -> 7
A54: ACU_METRIC | B54: TYPE | C54: VARCHAR | D54: 4 | F54: =IF(C54="NVARCHAR",[1]CALCULATIONS!$B$28+(D54*2),IF(C54="INT",[1]CALCULATIONS!$B$26,IF(C54="FLOAT",[1]CALCULATIONS!$B$27,IF(C54="DATE",[1]CALCULATIONS!$B$25,IF(C54="VARCHAR",[1]CALCULATIONS!$B$28+D54,IF(C54="GUID",[1]CALCULATIONS!$B$24,D54)))))) -> 6
A55: ACU_METRIC | B55: USR_ID | C55: NVARCHAR | D55: 20 | F55: =IF(C55="NVARCHAR",[1]CALCULATIONS!$B$28+(D55*2),IF(C55="INT",[1]CALCULATIONS!$B$26,IF(C55="FLOAT",[1]CALCULATIONS!$B$27,IF(C55="DATE",[1]CALCULATIONS!$B$25,IF(C55="VARCHAR",[1]CALCULATIONS!$B$28+D55,IF(C55="GUID",[1]CALCULATIONS!$B$24,D55)))))) -> 42
A56: ACU_METRIC | B56: REFERENCEID | C56: NVARCHAR | D56: 60 | F56: =IF(C56="NVARCHAR",[1]CALCULATIONS!$B$28+(D56*2),IF(C56="INT",[1]CALCULATIONS!$B$26,IF(C56="FLOAT",[1]CALCULATIONS!$B$27,IF(C56="DATE",[1]CALCULATIONS!$B$25,IF(C56="VARCHAR",[1]CALCULATIONS!$B$28+D56,IF(C56="GUID",[1]CALCULATIONS!$B$24,D56)))))) -> 122
A57: ACU_METRIC | B57: NAME | C57: NVARCHAR | D57: 200 | F57: =IF(C57="NVARCHAR",[1]CALCULATIONS!$B$28+(D57*2),IF(C57="INT",[1]CALCULATIONS!$B$26,IF(C57="FLOAT",[1]CALCULATIONS!$B$27,IF(C57="DATE",[1]CALCULATIONS!$B$25,IF(C57="VARCHAR",[1]CALCULATIONS!$B$28+D57,IF(C57="GUID",[1]CALCULATIONS!$B$24,D57)))))) -> 402 | H57: Max length is 200, Average data length is about 20
A58: ACU_METRIC | B58: DESCRIPTION | C58: NVARCHAR | D58: 500 | F58: =IF(C58="NVARCHAR",[1]CALCULATIONS!$B$28+(D58*2),IF(C58="INT",[1]CALCULATIONS!$B$26,IF(C58="FLOAT",[1]CALCULATIONS!$B$27,IF(C58="DATE",[1]CALCULATIONS!$B$25,IF(C58="VARCHAR",[1]CALCULATIONS!$B$28+D58,IF(C58="GUID",[1]CALCULATIONS!$B$24,D58)))))) -> 1002 | H58: Max length is 500, Average data length is about 80
A59: ACU_METRIC | B59: REMARKS | C59: NVARCHAR | D59: 32767 | F59: =IF(C59="NVARCHAR",[1]CALCULATIONS!$B$28+(D59*2),IF(C59="INT",[1]CALCULATIONS!$B$26,IF(C59="FLOAT",[1]CALCULATIONS!$B$27,IF(C59="DATE",[1]CALCULATIONS!$B$25,IF(C59="VARCHAR",[1]CALCULATIONS!$B$28+D59,IF(C59="GUID",[1]CALCULATIONS!$B$24,D59)))))) -> 65536 | H59: Max length is 32767, Average data length is about 250
A60: ACU_METRIC | B60: DATA | C60: NVARCHAR | D60: 32767 | F60: =IF(C60="NVARCHAR",[1]CALCULATIONS!$B$28+(D60*2),IF(C60="INT",[1]CALCULATIONS!$B$26,IF(C60="FLOAT",[1]CALCULATIONS!$B$27,IF(C60="DATE",[1]CALCULATIONS!$B$25,IF(C60="VARCHAR",[1]CALCULATIONS!$B$28+D60,IF(C60="GUID",[1]CALCULATIONS!$B$24,D60)))))) -> 65536 | G60: =SUM(F49:F60) -> 132709 | H60: Max length is 32767, Average length in use is about 2000
A62: ACU_METRICGROUP | B62: ACU_METRICGROUP_UID | C62: GUID | F62: =IF(C62="NVARCHAR",[1]CALCULATIONS!$B$28+(D62*2),IF(C62="INT",[1]CALCULATIONS!$B$26,IF(C62="FLOAT",[1]CALCULATIONS!$B$27,IF(C62="DATE",[1]CALCULATIONS!$B$25,IF(C62="VARCHAR",[1]CALCULATIONS!$B$28+D62,IF(C62="GUID",[1]CALCULATIONS!$B$24,D62)))))) -> 24
A63: ACU_METRICGROUP | B63: ACU_METRICGROUP_PARENT_UID | C63: GUID | F63: =IF(C63="NVARCHAR",[1]CALCULATIONS!$B$28+(D63*2),IF(C63="INT",[1]CALCULATIONS!$B$26,IF(C63="FLOAT",[1]CALCULATIONS!$B$27,IF(C63="DATE",[1]CALCULATIONS!$B$25,IF(C63="VARCHAR",[1]CALCULATIONS!$B$28+D63,IF(C63="GUID",[1]CALCULATIONS!$B$24,D63)))))) -> 24
A64: ACU_METRICGROUP | B64: NAME | C64: NVARCHAR | D64: 100 | F64: =IF(C64="NVARCHAR",[1]CALCULATIONS!$B$28+(D64*2),IF(C64="INT",[1]CALCULATIONS!$B$26,IF(C64="FLOAT",[1]CALCULATIONS!$B$27,IF(C64="DATE",[1]CALCULATIONS!$B$25,IF(C64="VARCHAR",[1]CALCULATIONS!$B$28+D64,IF(C64="GUID",[1]CALCULATIONS!$B$24,D64)))))) -> 202
A65: ACU_METRICGROUP | B65: DESCRIPTION | C65: NVARCHAR | D65: 500 | F65: =IF(C65="NVARCHAR",[1]CALCULATIONS!$B$28+(D65*2),IF(C65="INT",[1]CALCULATIONS!$B$26,IF(C65="FLOAT",[1]CALCULATIONS!$B$27,IF(C65="DATE",[1]CALCULATIONS!$B$25,IF(C65="VARCHAR",[1]CALCULATIONS!$B$28+D65,IF(C65="GUID",[1]CALCULATIONS!$B$24,D65)))))) -> 1002 | G65: =SUM(F62:F65) -> 1252 | H65: Max length is 500, Average data length is about 80
A67: ACU_METRICVARIABLE | B67: ACU_METRICVARIABLE_UID | C67: GUID | F67: =IF(C67="NVARCHAR",[1]CALCULATIONS!$B$28+(D67*2),IF(C67="INT",[1]CALCULATIONS!$B$26,IF(C67="FLOAT",[1]CALCULATIONS!$B$27,IF(C67="DATE",[1]CALCULATIONS!$B$25,IF(C67="VARCHAR",[1]CALCULATIONS!$B$28+D67,IF(C67="GUID",[1]CALCULATIONS!$B$24,D67)))))) -> 24
A68: ACU_METRICVARIABLE | B68: LASTUPDATE | C68: DATE | F68: =IF(C68="NVARCHAR",[1]CALCULATIONS!$B$28+(D68*2),IF(C68="INT",[1]CALCULATIONS!$B$26,IF(C68="FLOAT",[1]CALCULATIONS!$B$27,IF(C68="DATE",[1]CALCULATIONS!$B$25,IF(C68="VARCHAR",[1]CALCULATIONS!$B$28+D68,IF(C68="GUID",[1]CALCULATIONS!$B$24,D68)))))) -> 7
A69: ACU_METRICVARIABLE | B69: USR_ID | C69: NVARCHAR | D69: 20 | F69: =IF(C69="NVARCHAR",[1]CALCULATIONS!$B$28+(D69*2),IF(C69="INT",[1]CALCULATIONS!$B$26,IF(C69="FLOAT",[1]CALCULATIONS!$B$27,IF(C69="DATE",[1]CALCULATIONS!$B$25,IF(C69="VARCHAR",[1]CALCULATIONS!$B$28+D69,IF(C69="GUID",[1]CALCULATIONS!$B$24,D69)))))) -> 42
A70: ACU_METRICVARIABLE | B70: ACU_METRICVARIABLE_ID | C70: NVARCHAR | D70: 60 | F70: =IF(C70="NVARCHAR",[1]CALCULATIONS!$B$28+(D70*2),IF(C70="INT",[1]CALCULATIONS!$B$26,IF(C70="FLOAT",[1]CALCULATIONS!$B$27,IF(C70="DATE",[1]CALCULATIONS!$B$25,IF(C70="VARCHAR",[1]CALCULATIONS!$B$28+D70,IF(C70="GUID",[1]CALCULATIONS!$B$24,D70)))))) -> 122
A71: ACU_METRICVARIABLE | B71: VALUE | C71: NVARCHAR | D71: 255 | F71: =IF(C71="NVARCHAR",[1]CALCULATIONS!$B$28+(D71*2),IF(C71="INT",[1]CALCULATIONS!$B$26,IF(C71="FLOAT",[1]CALCULATIONS!$B$27,IF(C71="DATE",[1]CALCULATIONS!$B$25,IF(C71="VARCHAR",[1]CALCULATIONS!$B$28+D71,IF(C71="GUID",[1]CALCULATIONS!$B$24,D71)))))) -> 512 | G71: =SUM(F67:F71) -> 707
A73: ACU_PROGRAM (WST_DIR) | B73: DIR_UID | C73: GUID | F73: =IF(C73="NVARCHAR",[1]CALCULATIONS!$B$28+(D73*2),IF(C73="INT",[1]CALCULATIONS!$B$26,IF(C73="FLOAT",[1]CALCULATIONS!$B$27,IF(C73="DATE",[1]CALCULATIONS!$B$25,IF(C73="VARCHAR",[1]CALCULATIONS!$B$28+D73,IF(C73="GUID",[1]CALCULATIONS!$B$24,D73)))))) -> 24
A74: ACU_PROGRAM (WST_DIR) | B74: SEQUENCE | C74: INT | F74: =IF(C74="NVARCHAR",[1]CALCULATIONS!$B$28+(D74*2),IF(C74="INT",[1]CALCULATIONS!$B$26,IF(C74="FLOAT",[1]CALCULATIONS!$B$27,IF(C74="DATE",[1]CALCULATIONS!$B$25,IF(C74="VARCHAR",[1]CALCULATIONS!$B$28+D74,IF(C74="GUID",[1]CALCULATIONS!$B$24,D74)))))) -> 4
A75: ACU_PROGRAM (WST_DIR) | B75: DIR_ID | C75: NVARCHAR | D75: 22 | F75: =IF(C75="NVARCHAR",[1]CALCULATIONS!$B$28+(D75*2),IF(C75="INT",[1]CALCULATIONS!$B$26,IF(C75="FLOAT",[1]CALCULATIONS!$B$27,IF(C75="DATE",[1]CALCULATIONS!$B$25,IF(C75="VARCHAR",[1]CALCULATIONS!$B$28+D75,IF(C75="GUID",[1]CALCULATIONS!$B$24,D75)))))) -> 46
A76: ACU_PROGRAM (WST_DIR) | B76: TABLE_TYPE | C76: VARCHAR | D76: 30 | F76: =IF(C76="NVARCHAR",[1]CALCULATIONS!$B$28+(D76*2),IF(C76="INT",[1]CALCULATIONS!$B$26,IF(C76="FLOAT",[1]CALCULATIONS!$B$27,IF(C76="DATE",[1]CALCULATIONS!$B$25,IF(C76="VARCHAR",[1]CALCULATIONS!$B$28+D76,IF(C76="GUID",[1]CALCULATIONS!$B$24,D76)))))) -> 32 | H76: Max length is 30, Data length for this table is 11 (ACU_PROGRAM)
A77: ACU_PROGRAM (WST_DIR) | B77: OWNER_ID | C77: NVARCHAR | D77: 20 | F77: =IF(C77="NVARCHAR",[1]CALCULATIONS!$B$28+(D77*2),IF(C77="INT",[1]CALCULATIONS!$B$26,IF(C77="FLOAT",[1]CALCULATIONS!$B$27,IF(C77="DATE",[1]CALCULATIONS!$B$25,IF(C77="VARCHAR",[1]CALCULATIONS!$B$28+D77,IF(C77="GUID",[1]CALCULATIONS!$B$24,D77)))))) -> 42
A78: ACU_PROGRAM (WST_DIR) | B78: OPENMODE | C78: VARCHAR | D78: 1 | F78: =IF(C78="NVARCHAR",[1]CALCULATIONS!$B$28+(D78*2),IF(C78="INT",[1]CALCULATIONS!$B$26,IF(C78="FLOAT",[1]CALCULATIONS!$B$27,IF(C78="DATE",[1]CALCULATIONS!$B$25,IF(C78="VARCHAR",[1]CALCULATIONS!$B$28+D78,IF(C78="GUID",[1]CALCULATIONS!$B$24,D78)))))) -> 3
A79: ACU_PROGRAM (WST_DIR) | B79: USR_ID | C79: NVARCHAR | D79: 20 | F79: =IF(C79="NVARCHAR",[1]CALCULATIONS!$B$28+(D79*2),IF(C79="INT",[1]CALCULATIONS!$B$26,IF(C79="FLOAT",[1]CALCULATIONS!$B$27,IF(C79="DATE",[1]CALCULATIONS!$B$25,IF(C79="VARCHAR",[1]CALCULATIONS!$B$28+D79,IF(C79="GUID",[1]CALCULATIONS!$B$24,D79)))))) -> 42
A80: ACU_PROGRAM (WST_DIR) | B80: LASTUPDATE | C80: DATE | F80: =IF(C80="NVARCHAR",[1]CALCULATIONS!$B$28+(D80*2),IF(C80="INT",[1]CALCULATIONS!$B$26,IF(C80="FLOAT",[1]CALCULATIONS!$B$27,IF(C80="DATE",[1]CALCULATIONS!$B$25,IF(C80="VARCHAR",[1]CALCULATIONS!$B$28+D80,IF(C80="GUID",[1]CALCULATIONS!$B$24,D80)))))) -> 7
A81: ACU_PROGRAM (WST_DIR) | B81: DESCRIPTION | C81: NVARCHAR | D81: 254 | F81: =IF(C81="NVARCHAR",[1]CALCULATIONS!$B$28+(D81*2),IF(C81="INT",[1]CALCULATIONS!$B$26,IF(C81="FLOAT",[1]CALCULATIONS!$B$27,IF(C81="DATE",[1]CALCULATIONS!$B$25,IF(C81="VARCHAR",[1]CALCULATIONS!$B$28+D81,IF(C81="GUID",[1]CALCULATIONS!$B$24,D81)))))) -> 510
A82: ACU_PROGRAM | B82: DIR_UID | C82: GUID | F82: =IF(C82="NVARCHAR",[1]CALCULATIONS!$B$28+(D82*2),IF(C82="INT",[1]CALCULATIONS!$B$26,IF(C82="FLOAT",[1]CALCULATIONS!$B$27,IF(C82="DATE",[1]CALCULATIONS!$B$25,IF(C82="VARCHAR",[1]CALCULATIONS!$B$28+D82,IF(C82="GUID",[1]CALCULATIONS!$B$24,D82)))))) -> 24
A83: ACU_PROGRAM | B83: STARTDATE | C83: DATE | F83: =IF(C83="NVARCHAR",[1]CALCULATIONS!$B$28+(D83*2),IF(C83="INT",[1]CALCULATIONS!$B$26,IF(C83="FLOAT",[1]CALCULATIONS!$B$27,IF(C83="DATE",[1]CALCULATIONS!$B$25,IF(C83="VARCHAR",[1]CALCULATIONS!$B$28+D83,IF(C83="GUID",[1]CALCULATIONS!$B$24,D83)))))) -> 7
A84: ACU_PROGRAM | B84: FINISHDATE | C84: DATE | F84: =IF(C84="NVARCHAR",[1]CALCULATIONS!$B$28+(D84*2),IF(C84="INT",[1]CALCULATIONS!$B$26,IF(C84="FLOAT",[1]CALCULATIONS!$B$27,IF(C84="DATE",[1]CALCULATIONS!$B$25,IF(C84="VARCHAR",[1]CALCULATIONS!$B$28+D84,IF(C84="GUID",[1]CALCULATIONS!$B$24,D84)))))) -> 7
A85: ACU_PROGRAM | B85: BSTARTDATE | C85: DATE | F85: =IF(C85="NVARCHAR",[1]CALCULATIONS!$B$28+(D85*2),IF(C85="INT",[1]CALCULATIONS!$B$26,IF(C85="FLOAT",[1]CALCULATIONS!$B$27,IF(C85="DATE",[1]CALCULATIONS!$B$25,IF(C85="VARCHAR",[1]CALCULATIONS!$B$28+D85,IF(C85="GUID",[1]CALCULATIONS!$B$24,D85)))))) -> 7
A86: ACU_PROGRAM | B86: BFINISHDATE | C86: DATE | F86: =IF(C86="NVARCHAR",[1]CALCULATIONS!$B$28+(D86*2),IF(C86="INT",[1]CALCULATIONS!$B$26,IF(C86="FLOAT",[1]CALCULATIONS!$B$27,IF(C86="DATE",[1]CALCULATIONS!$B$25,IF(C86="VARCHAR",[1]CALCULATIONS!$B$28+D86,IF(C86="GUID",[1]CALCULATIONS!$B$24,D86)))))) -> 7
A87: ACU_PROGRAM | B87: STATDATE | C87: DATE | F87: =IF(C87="NVARCHAR",[1]CALCULATIONS!$B$28+(D87*2),IF(C87="INT",[1]CALCULATIONS!$B$26,IF(C87="FLOAT",[1]CALCULATIONS!$B$27,IF(C87="DATE",[1]CALCULATIONS!$B$25,IF(C87="VARCHAR",[1]CALCULATIONS!$B$28+D87,IF(C87="GUID",[1]CALCULATIONS!$B$24,D87)))))) -> 7
A88: ACU_PROGRAM | B88: ACTIVITYCOUNT | C88: INT | F88: =IF(C88="NVARCHAR",[1]CALCULATIONS!$B$28+(D88*2),IF(C88="INT",[1]CALCULATIONS!$B$26,IF(C88="FLOAT",[1]CALCULATIONS!$B$27,IF(C88="DATE",[1]CALCULATIONS!$B$25,IF(C88="VARCHAR",[1]CALCULATIONS!$B$28+D88,IF(C88="GUID",[1]CALCULATIONS!$B$24,D88)))))) -> 4
A89: ACU_PROGRAM | B89: NEGOTIATEDCOST | C89: FLOAT | F89: =IF(C89="NVARCHAR",[1]CALCULATIONS!$B$28+(D89*2),IF(C89="INT",[1]CALCULATIONS!$B$26,IF(C89="FLOAT",[1]CALCULATIONS!$B$27,IF(C89="DATE",[1]CALCULATIONS!$B$25,IF(C89="VARCHAR",[1]CALCULATIONS!$B$28+D89,IF(C89="GUID",[1]CALCULATIONS!$B$24,D89)))))) -> 8
A90: ACU_PROGRAM | B90: BUDGETCOST | C90: FLOAT | F90: =IF(C90="NVARCHAR",[1]CALCULATIONS!$B$28+(D90*2),IF(C90="INT",[1]CALCULATIONS!$B$26,IF(C90="FLOAT",[1]CALCULATIONS!$B$27,IF(C90="DATE",[1]CALCULATIONS!$B$25,IF(C90="VARCHAR",[1]CALCULATIONS!$B$28+D90,IF(C90="GUID",[1]CALCULATIONS!$B$24,D90)))))) -> 8
A91: ACU_PROGRAM | B91: CONTENGENCY | C91: FLOAT | F91: =IF(C91="NVARCHAR",[1]CALCULATIONS!$B$28+(D91*2),IF(C91="INT",[1]CALCULATIONS!$B$26,IF(C91="FLOAT",[1]CALCULATIONS!$B$27,IF(C91="DATE",[1]CALCULATIONS!$B$25,IF(C91="VARCHAR",[1]CALCULATIONS!$B$28+D91,IF(C91="GUID",[1]CALCULATIONS!$B$24,D91)))))) -> 8
A92: ACU_PROGRAM | B92: PERCENTCOMPLETE | C92: FLOAT | F92: =IF(C92="NVARCHAR",[1]CALCULATIONS!$B$28+(D92*2),IF(C92="INT",[1]CALCULATIONS!$B$26,IF(C92="FLOAT",[1]CALCULATIONS!$B$27,IF(C92="DATE",[1]CALCULATIONS!$B$25,IF(C92="VARCHAR",[1]CALCULATIONS!$B$28+D92,IF(C92="GUID",[1]CALCULATIONS!$B$24,D92)))))) -> 8
A93: ACU_PROGRAM | B93: CONTRACT | C93: NVARCHAR | D93: 60 | F93: =IF(C93="NVARCHAR",[1]CALCULATIONS!$B$28+(D93*2),IF(C93="INT",[1]CALCULATIONS!$B$26,IF(C93="FLOAT",[1]CALCULATIONS!$B$27,IF(C93="DATE",[1]CALCULATIONS!$B$25,IF(C93="VARCHAR",[1]CALCULATIONS!$B$28+D93,IF(C93="GUID",[1]CALCULATIONS!$B$24,D93)))))) -> 122
A94: ACU_PROGRAM | B94: CLIENT | C94: NVARCHAR | D94: 60 | F94: =IF(C94="NVARCHAR",[1]CALCULATIONS!$B$28+(D94*2),IF(C94="INT",[1]CALCULATIONS!$B$26,IF(C94="FLOAT",[1]CALCULATIONS!$B$27,IF(C94="DATE",[1]CALCULATIONS!$B$25,IF(C94="VARCHAR",[1]CALCULATIONS!$B$28+D94,IF(C94="GUID",[1]CALCULATIONS!$B$24,D94)))))) -> 122
A95: ACU_PROGRAM | B95: LOCATION | C95: NVARCHAR | D95: 60 | F95: =IF(C95="NVARCHAR",[1]CALCULATIONS!$B$28+(D95*2),IF(C95="INT",[1]CALCULATIONS!$B$26,IF(C95="FLOAT",[1]CALCULATIONS!$B$27,IF(C95="DATE",[1]CALCULATIONS!$B$25,IF(C95="VARCHAR",[1]CALCULATIONS!$B$28+D95,IF(C95="GUID",[1]CALCULATIONS!$B$24,D95)))))) -> 122 | G95: =SUM(F73:F95) -> 1171
A97: ACU_PROGRAMBENCHMARK | B97: ACU_PROGRAMBENCHMARK_UID | C97: GUID | F97: =IF(C97="NVARCHAR",[1]CALCULATIONS!$B$28+(D97*2),IF(C97="INT",[1]CALCULATIONS!$B$26,IF(C97="FLOAT",[1]CALCULATIONS!$B$27,IF(C97="DATE",[1]CALCULATIONS!$B$25,IF(C97="VARCHAR",[1]CALCULATIONS!$B$28+D97,IF(C97="GUID",[1]CALCULATIONS!$B$24,D97)))))) -> 24
A98: ACU_PROGRAMBENCHMARK | B98: DIR_UID | C98: GUID | F98: =IF(C98="NVARCHAR",[1]CALCULATIONS!$B$28+(D98*2),IF(C98="INT",[1]CALCULATIONS!$B$26,IF(C98="FLOAT",[1]CALCULATIONS!$B$27,IF(C98="DATE",[1]CALCULATIONS!$B$25,IF(C98="VARCHAR",[1]CALCULATIONS!$B$28+D98,IF(C98="GUID",[1]CALCULATIONS!$B$24,D98)))))) -> 24
A99: ACU_PROGRAMBENCHMARK | B99: ACU_BENCHMARK_UID | C99: GUID | F99: =IF(C99="NVARCHAR",[1]CALCULATIONS!$B$28+(D99*2),IF(C99="INT",[1]CALCULATIONS!$B$26,IF(C99="FLOAT",[1]CALCULATIONS!$B$27,IF(C99="DATE",[1]CALCULATIONS!$B$25,IF(C99="VARCHAR",[1]CALCULATIONS!$B$28+D99,IF(C99="GUID",[1]CALCULATIONS!$B$24,D99)))))) -> 24
A100: ACU_PROGRAMBENCHMARK | B100: ACU_BENCHMARKVALUE_UID | C100: GUID | F100: =IF(C100="NVARCHAR",[1]CALCULATIONS!$B$28+(D100*2),IF(C100="INT",[1]CALCULATIONS!$B$26,IF(C100="FLOAT",[1]CALCULATIONS!$B$27,IF(C100="DATE",[1]CALCULATIONS!$B$25,IF(C100="VARCHAR",[1]CALCULATIONS!$B$28+D100,IF(C100="GUID",[1]CALCULATIONS!$B$24,D100)))))) -> 24 | G100: =SUM(F97:F100) -> 96
A102: ACU_PROGRAMMETRICVARIABLE | B102: ACU_PROGRAMMETRICVARIABLE_UID | C102: GUID | F102: =IF(C102="NVARCHAR",[1]CALCULATIONS!$B$28+(D102*2),IF(C102="INT",[1]CALCULATIONS!$B$26,IF(C102="FLOAT",[1]CALCULATIONS!$B$27,IF(C102="DATE",[1]CALCULATIONS!$B$25,IF(C102="VARCHAR",[1]CALCULATIONS!$B$28+D102,IF(C102="GUID",[1]CALCULATIONS!$B$24,D102)))))) -> 24
A103: ACU_PROGRAMMETRICVARIABLE | B103: DIR_UID | C103: GUID | F103: =IF(C103="NVARCHAR",[1]CALCULATIONS!$B$28+(D103*2),IF(C103="INT",[1]CALCULATIONS!$B$26,IF(C103="FLOAT",[1]CALCULATIONS!$B$27,IF(C103="DATE",[1]CALCULATIONS!$B$25,IF(C103="VARCHAR",[1]CALCULATIONS!$B$28+D103,IF(C103="GUID",[1]CALCULATIONS!$B$24,D103)))))) -> 24
A104: ACU_PROGRAMMETRICVARIABLE | B104: ACU_METRICVARIABLE_UID | C104: GUID | F104: =IF(C104="NVARCHAR",[1]CALCULATIONS!$B$28+(D104*2),IF(C104="INT",[1]CALCULATIONS!$B$26,IF(C104="FLOAT",[1]CALCULATIONS!$B$27,IF(C104="DATE",[1]CALCULATIONS!$B$25,IF(C104="VARCHAR",[1]CALCULATIONS!$B$28+D104,IF(C104="GUID",[1]CALCULATIONS!$B$24,D104)))))) -> 24
A105: ACU_PROGRAMMETRICVARIABLE | B105: LASTUPDATE | C105: DATE | F105: =IF(C105="NVARCHAR",[1]CALCULATIONS!$B$28+(D105*2),IF(C105="INT",[1]CALCULATIONS!$B$26,IF(C105="FLOAT",[1]CALCULATIONS!$B$27,IF(C105="DATE",[1]CALCULATIONS!$B$25,IF(C105="VARCHAR",[1]CALCULATIONS!$B$28+D105,IF(C105="GUID",[1]CALCULATIONS!$B$24,D105)))))) -> 7
A106: ACU_PROGRAMMETRICVARIABLE | B106: USR_ID | C106: NVARCHAR | D106: 20 | F106: =IF(C106="NVARCHAR",[1]CALCULATIONS!$B$28+(D106*2),IF(C106="INT",[1]CALCULATIONS!$B$26,IF(C106="FLOAT",[1]CALCULATIONS!$B$27,IF(C106="DATE",[1]CALCULATIONS!$B$25,IF(C106="VARCHAR",[1]CALCULATIONS!$B$28+D106,IF(C106="GUID",[1]CALCULATIONS!$B$24,D106)))))) -> 42
A107: ACU_PROGRAMMETRICVARIABLE | B107: VALUE | C107: NVARCHAR | D107: 255 | F107: =IF(C107="NVARCHAR",[1]CALCULATIONS!$B$28+(D107*2),IF(C107="INT",[1]CALCULATIONS!$B$26,IF(C107="FLOAT",[1]CALCULATIONS!$B$27,IF(C107="DATE",[1]CALCULATIONS!$B$25,IF(C107="VARCHAR",[1]CALCULATIONS!$B$28+D107,IF(C107="GUID",[1]CALCULATIONS!$B$24,D107)))))) -> 512 | G107: =SUM(F102:F107) -> 633
A109: ACU_PROJECT (WST_DIR) | B109: DIR_UID | C109: GUID | F109: =IF(C109="NVARCHAR",[1]CALCULATIONS!$B$28+(D109*2),IF(C109="INT",[1]CALCULATIONS!$B$26,IF(C109="FLOAT",[1]CALCULATIONS!$B$27,IF(C109="DATE",[1]CALCULATIONS!$B$25,IF(C109="VARCHAR",[1]CALCULATIONS!$B$28+D109,IF(C109="GUID",[1]CALCULATIONS!$B$24,D109)))))) -> 24
A110: ACU_PROJECT (WST_DIR) | B110: SEQUENCE | C110: INT | F110: =IF(C110="NVARCHAR",[1]CALCULATIONS!$B$28+(D110*2),IF(C110="INT",[1]CALCULATIONS!$B$26,IF(C110="FLOAT",[1]CALCULATIONS!$B$27,IF(C110="DATE",[1]CALCULATIONS!$B$25,IF(C110="VARCHAR",[1]CALCULATIONS!$B$28+D110,IF(C110="GUID",[1]CALCULATIONS!$B$24,D110)))))) -> 4
A111: ACU_PROJECT (WST_DIR) | B111: DIR_ID | C111: NVARCHAR | D111: 22 | F111: =IF(C111="NVARCHAR",[1]CALCULATIONS!$B$28+(D111*2),IF(C111="INT",[1]CALCULATIONS!$B$26,IF(C111="FLOAT",[1]CALCULATIONS!$B$27,IF(C111="DATE",[1]CALCULATIONS!$B$25,IF(C111="VARCHAR",[1]CALCULATIONS!$B$28+D111,IF(C111="GUID",[1]CALCULATIONS!$B$24,D111)))))) -> 46
A112: ACU_PROJECT (WST_DIR) | B112: TABLE_TYPE | C112: VARCHAR | D112: 30 | F112: =IF(C112="NVARCHAR",[1]CALCULATIONS!$B$28+(D112*2),IF(C112="INT",[1]CALCULATIONS!$B$26,IF(C112="FLOAT",[1]CALCULATIONS!$B$27,IF(C112="DATE",[1]CALCULATIONS!$B$25,IF(C112="VARCHAR",[1]CALCULATIONS!$B$28+D112,IF(C112="GUID",[1]CALCULATIONS!$B$24,D112)))))) -> 32 | H112: Max length is 30, Data length for this table is 11 (ACU_PROJECT)
A113: ACU_PROJECT (WST_DIR) | B113: OWNER_ID | C113: NVARCHAR | D113: 20 | F113: =IF(C113="NVARCHAR",[1]CALCULATIONS!$B$28+(D113*2),IF(C113="INT",[1]CALCULATIONS!$B$26,IF(C113="FLOAT",[1]CALCULATIONS!$B$27,IF(C113="DATE",[1]CALCULATIONS!$B$25,IF(C113="VARCHAR",[1]CALCULATIONS!$B$28+D113,IF(C113="GUID",[1]CALCULATIONS!$B$24,D113)))))) -> 42
...

Sheet INDEXES
A1: TABLE NAME | B1: INDEX | C1: COLUMN NAME | D1: MAX LEN | E1: ROW BYTES
A2: ACU_ACCEPTANCE | B2: PK_ACU_ACCEPTANCE | C2: ACU_ACCEPTANCE_UID | D2: 22
A3: ACU_ACCEPTANCE | B3: IX_ACU_ACCEPTANCE_ID | C3: ACU_ACCEPTANCE_ID | D3: 120 | E3: =SUM(D2:D3) -> 142
A5: ACU_ACCEPTANCEMETRIC | B5: PK_ACU_ACCEPTANCEMETRIC | C5: ACU_ACCEPTANCEMETRIC_UID | D5: 22
A6: ACU_ACCEPTANCEMETRIC | B6: IX_ACU_ACCEPTANCEMETRIC | C6: ACU_ACCEPTANCEMETRIC_UID, ACU_METRIC_UID | D6: 44 | E6: =SUM(D5:D6) -> 66
A8: ACU_BENCHMARK | B8: PK_ACU_BENCHMARK | C8: ACU_BENCHMARK_UID | D8: 22
A9: ACU_BENCHMARK | B9: IX_ACU_BENCHMARK_ID | C9: ACU_BENCHMARK_ID | D9: 120 | E9: =SUM(D8:D9) -> 142
A11: ACU_BENCHMARKVALUE | B11: PK_ACU_BENCHMARKVALUE | C11: ACU_BENCHMARKVALUE_UID | D11: 22
A12: ACU_BENCHMARKVALUE | B12: IX_ACU_BENCHMARKVALUE | C12: ACU_BENCHMARK_UID, ACU_BENCHMARKVALUE_ID | D12: 142 | E12: =SUM(D11:D12) -> 164
A14: ACU_EMAILTEMPLATE | B14: PK_ACU_EMAILTEMPLATE | C14: ACU_EMAILTEMPLATE_UID | D14: 22
A15: ACU_EMAILTEMPLATE | B15: IX_ACU_EMAILTEMPLATE_ID | C15: ACU_EMAILTEMPLATE_ID | D15: 120 | E15: =SUM(D14:D15) -> 142
A17: ACU_FIELDMAPPING | B17: PK_ACU_FIELDMAPPING | C17: ACU_FIELDMAPPING_UID | D17: 22
A18: ACU_FIELDMAPPING | B18: IX_ACU_FIELDMAPPING_ID | C18: ACU_FIELDMAPPING_ID | D18: 120 | E18: =SUM(D17:D18) -> 142
A20: ACU_FIELDMAPPINGFIELD | B20: PK_ACU_FIELDMAPPINGFIELD | C20: ACU_FIELDMAPPINGFIELD_UID | D20: 22
A21: ACU_FIELDMAPPINGFIELD | B21: IX_ACU_FIELDMAPPINGFIELD_SOURC | C21: ACU_FIELDMAPPING_UID, SOURCEFIELD | D21: 82
A22: ACU_FIELDMAPPINGFIELD | B22: IX_ACU_FIELDMAPPINGFIELD_TARGT | C22: ACU_FIELDMAPPING_UID, TARGETFIELD | D22: 82 | E22: =SUM(D20:D22) -> 186
A24: ACU_METRIC | B24: PK_ACU_METRIC | C24: ACU_METRIC_UID | D24: 22
A25: ACU_METRIC | B25: IX_ACU_METRIC_NAME | C25: ACU_METRICGROUP_UID, NAME, TYPE | D25: 426 | E25: =SUM(D24:D25) -> 448
A27: ACU_METRICGROUP | B27: PK_ACU_METRICGROUP | C27: ACU_METRICGROUP_UID | D27: 22
A28: ACU_METRICGROUP | B28: IX_ACU_METRICGROUP_NAME | C28: ACU_METRICGROUP_PARENT_UID, NAME | D28: 244 | E28: =SUM(D27:D28) -> 266
A30: ACU_METRICVARIABLE | B30: PK_ACU_METRICVARIABLE | C30: ACU_METRICVARIABLE_UID | D30: 22
A31: ACU_METRICVARIABLE | B31: IX_ACU_METRICVARIABLE | C31: ACU_METRICVARIABLE_ID | D31: 120 | E31: =SUM(D30:D31) -> 142
A33: ACU_PROGRAM | B33: PK_ACU_PROGRAM | C33: DIR_UID | D33: 22
A34: ACU_PROGRAM (WST_DIR) | B34: PK_WST_DIR | C34: DIR_UID | D34: 22
A35: ACU_PROGRAM (WST_DIR) | B35: IX_DIR_DIR_ID | C35: DIR_ID | D35: 44
A36: ACU_PROGRAM (WST_DIR) | B36: IX_DIR_TABLE_TYPE | C36: TABLE_TYPE | D36: 30 | E36: =SUM(D33:D36) -> 118
A38: ACU_PROGRAMBENCHMARK | B38: PK_ACU_PROGRAMBENCHMARK | C38: ACU_PROGRAMBENCHMARK_UID | D38: 22
A39: ACU_PROGRAMBENCHMARK | B39: IX_ACU_PROGRAMBENCHMARK | C39: DIR_UID, ACU_BENCHMARK_UID | D39: 44 | E39: =SUM(D38:D39) -> 66
A41: ACU_PROGRAMMETRICVARIABLE | B41: PK_ACU_PROGRAMMETRICVARIABLE | C41: ACU_PROGRAMMETRICVARIABLE_UID | D41: 22
A42: ACU_PROGRAMMETRICVARIABLE | B42: IX_ACU_PROGRAMMETRICVARIABLE | C42: DIR_UID, ACU_METRICVARIABLE_UID | D42: 44 | E42: =SUM(D41:D42) -> 66
A44: ACU_PROJECT | B44: PK_ACU_PROJECT | C44: DIR_UID | D44: 22
A45: ACU_PROJECT (WST_DIR) | B45: PK_WST_DIR | C45: DIR_UID | D45: 22
A46: ACU_PROJECT (WST_DIR) | B46: IX_DIR_DIR_ID | C46: DIR_ID | D46: 44
A47: ACU_PROJECT (WST_DIR) | B47: IX_DIR_TABLE_TYPE | C47: TABLE_TYPE | D47: 30
A48: ACU_PROJECT | B48: IX_ACU_PROJECT_PROGRAM_UID | C48: ACU_PROGRAM_UID | D48: 22
A49: ACU_PROJECT | B49: IX_ACU_PROJECT_FIELDMAP_UID | C49: ACU_FIELDMAPPING_UID | D49: 22
A50: ACU_PROJECT | B50: IX_ACU_PROJECT_ACCEPTANCE_UID | C50: ACU_ACCEPTANCE_UID | D50: 22 | E50: =SUM(D44:D50) -> 184
A52: ACU_RPT | B52: PK_ACU_RPT | C52: ACU_RPT_UID | D52: 22
A53: ACU_RPT | B53: IX_ACU_RPT_ID | C53: ACU_RPT_ID | D53: 120 | E53: =SUM(D52:D53) -> 142
A55: ACU_RPT_ACPTNC | B55: PK_ACU_RPT_ACPTNC | C55: ACU_RPT_ACPTNC_UID | D55: 22
A56: ACU_RPT_ACPTNC | B56: IX_ACU_RPT_ACPTNC | C56: ACU_RPT_UID, ACU_ACCEPTANCE_UID | D56: 44 | E56: =SUM(D55:D56) -> 66
A58: ACU_RPT_BMRK | B58: PK_ACU_RPT_BMRK | C58: ACU_RPT_BMRK_UID | D58: 22
A59: ACU_RPT_BMRK | B59: IX_ACU_RPT_BMRK | C59: ACU_RPT_UID, ACU_BENCHMARK_UID | D59: 44 | E59: =SUM(D58:D59) -> 66
A61: ACU_RPT_GLIDE_PATH | B61: PK_ACU_RPT_GLIDE_PATH | C61: ACU_RPT_GLIDE_PATH_UID | D61: 22
A62: ACU_RPT_GLIDE_PATH | B62: IX_ACU_RPT_GLIDE_PATH | C62: ACU_RPT_UID, PERCENTCOMPLETE | D62: 26 | E62: =SUM(D61:D62) -> 48
A64: ACU_RPT_SMRY | B64: PK_ACU_RPT_SMRY | C64: ACU_RPT_SMRY_UID | D64: 22
A65: ACU_RPT_SMRY | B65: IX_ACU_RPT_SMRY | C65: ACU_RPT_UID, DIR_UID, PERCENTCOMPLETE | D65: 48 | E65: =SUM(D64:D65) -> 70
A67: ACU_RPT_SMRY_ACPTNC | B67: PK_ACU_RPT_SMRY_ACPTNC | C67: ACU_RPT_SMRY_ACPTNC_UID | D67: 22
A68: ACU_RPT_SMRY_ACPTNC | B68: IX_ACU_RPT_SMRY_ACPTNC | C68: ACU_RPT_SMRY_UID, ACU_ACCEPTANCE_UID | D68: 44 | E68: =SUM(D67:D68) -> 66
A70: ACU_RPT_SMRY_BMRK | B70: PK_ACU_RPT_SMRY_BMRK | C70: ACU_RPT_SMRY_BMRK_UID | D70: 22
A71: ACU_RPT_SMRY_BMRK | B71: IX_ACU_RPT_SMRY_BMRK | C71: ACU_RPT_SMRY_UID, ACU_BENCHMARK_UID | D71: 44 | E71: =SUM(D70:D71) -> 66
A73: ACU_SNAPSHOT | B73: PK_ACU_SNAPSHOT | C73: ACU_SNAPSHOT_UID | D73: 22
A74: ACU_SNAPSHOT | B74: IX_ACU_SNAPSHOT_DIR_UID | C74: DIR_UID | D74: 22 | E74: =SUM(D73:D74) -> 44
A76: ACU_SNAPSHOTBENCHMARK | B76: PK_ACU_SNAPSHOTBENCHMARK | C76: ACU_SNAPSHOTBENCHMARK_UID | D76: 22
A77: ACU_SNAPSHOTBENCHMARK | B77: IX_ACU_SNAPSHOTBENCHMARK | C77: DIR_UID, ACU_SNAPSHOT_UID, ACU_BENCHMARKVALUE_UID | D77: 66 | E77: =SUM(D76:D77) -> 88
A79: ACU_SNPST_MTRC_SCORE | B79: PK_ACU_SNPST_MTRC_SCORE | C79: ACU_SNPST_MTRC_SCORE_UID | D79: 22
A80: ACU_SNPST_MTRC_SCORE | B80: IX_ACU_SNPST_MTRC_SCORE | C80: ACU_METRIC_UID, ACU_METRIC_VERSION, ACU_SNAPSHOT_UID, ACU_RPT_SMRY_ACPTNC_UID | D80: 70 | E80: =SUM(D79:D80) -> 92
A82: ACU_SNPST_MTRC_TRP_ACT | B82: PK_ACU_SNPST_MTRC_TRP_ACT | C82: ACU_SNPST_MTRC_TRP_ACT_UID | D82: 22
A83: ACU_SNPST_MTRC_TRP_ACT | B83: IX_ACU_SNPST_MTRC_TRP_ACT | C83: ACU_SNPST_MTRC_SCORE_UID, ACT_ID | D83: 140 | E83: =SUM(D82:D83) -> 162
A85: FW_CFGProcessQueue | B85: FW_CFGProcessQueuePK | C85: QueueID | D85: 32 | E85: =SUM(D85:D85) -> 32
A87: FW_CFGProcessQueueSetup | B87: FW_CFGProcessQueueSetupPK | C87: PKey | D87: 4 | E87: =SUM(D87:D87) -> 4
A89: FW_DetailJobs | B89: FW_DetailJobsPK | C89: QueueID, ProcessID, DetailID | D89: 96 | E89: =SUM(D89:D89) -> 96
A91: FW_DetailJobStatus | B91: FW_DetailJobStatusPK | C91: QueueID, ProcessID, DetailID, StatusID | D91: 132 | E91: =SUM(D91:D91) -> 132
A93: FW_DetailProfiles | B93: FW_DetailProfilesPK | C93: QueueID, ProcessID, DetailID | D93: 96 | E93: =SUM(D93:D93) -> 96
A95: FW_MasterJobs | B95: FW_MasterJobsPK | C95: QueueID, ProcessID | D95: 64
A96: FW_MasterJobs | B96: FW_MasterJobsAppRecordKeyIDX | C96: AppRecordKey | D96: 22 | E96: =SUM(D95:D96) -> 86
A98: FW_MasterProfiles | B98: FW_MasterProfilesPK | C98: QueueID, ProcessID | D98: 64 | E98: =SUM(D98:D98) -> 64
A100: OPP_ACT | B100: PK_OPP_ACT | C100: ACT_UID | D100: 22
A101: OPP_ACT | B101: IX_ACT_ID | C101: DIR_UID, ACT_ID | D101: 44
A102: OPP_ACT | B102: IX_ACT_DIR_UID | C102: DIR_UID | D102: 22
A103: OPP_ACT | B103: IX_ACT_CLH_UID | C103: CLH_UID | D103: 22 | E103: =SUM(D100:D103) -> 110
A105: OPP_CLC | B105: PK_OPP_CLC | C105: CLC_UID | D105: 22
A106: OPP_CLC | B106: IX_CLC_TABLE_TYPE | C106: TABLE_TYPE | D106: 30 | E106: =SUM(D105:D106) -> 52
A108: OPP_SRT | B108: PK_OPP_SRT | C108: SRT_UID | D108: 22
A109: OPP_SRT | B109: IX_SRT_TABLE_TYPE | C109: TABLE_TYPE | D109: 30
A110: OPP_SRT | B110: IX_SRT_SRT_ID | C110: SRT_ID | D110: 120 | E110: =SUM(D108:D110) -> 172
A112: OPP_STP | B112: PK_OPP_STP | C112: STP_UID | D112: 22
A113: OPP_STP | B113: IX_STP_DIR_UID | C113: DIR_UID | D113: 22
A114: OPP_STP | B114: IX_STP_ACT_UID | C114: ACT_UID | D114: 22 | E114: =SUM(D112:D114) -> 66
A116: WST_FILE | B116: PK_WST_FILE | C116: FILE_UID | D116: 22
A117: WST_FILE | B117: IX_WST_FILE | C117: TABLE_TYPE, FK_UID | D117: 52 | E117: =SUM(D116:D117) -> 74
A119: WST_ACL | B119: PK_WST_ACL | C119: ACL_UID | D119: 22
A120: WST_ACL | B120: IX_ACL_USR_ID | C120: USR_ID | D120: 40
A121: WST_ACL | B121: IX_ACL_GRP_ID | C121: GRP_ID | D121: 40
A122: WST_ACL | B122: IX_ACL_DIR_UID | C122: DIR_UID | D122: 22 | E122: =SUM(D119:D122) -> 124
A124: WST_APPSERVERS | B124: PK_WST_APPSERVERS | C124: APPSERVER | D124: 160 | E124: =SUM(D124:D124) -> 160
A126: WST_AUDIT_LOG | B126: PK_WST_AUDIT_LOG | C126: ROW_UID | D126: 22 | E126: =SUM(D126:D126) -> 22
A128: WST_CDR | B128: PK_WST_CDR | C128: CDR_UID | D128: 22
A129: WST_CDR | B129: IX_CDR_ID | C129: DIR_UID, CDR_ID | D129: 140
A130: WST_CDR | B130: IX_CDR_DIR_UID | C130: DIR_UID | D130: 22 | E130: =SUM(D128:D130) -> 184
A132: WST_CFG | B132: PK_WST_CFG | C132: CFG_UID | D132: 22
A133: WST_CFG | B133: IX_CFG_UNIQUE_KEY | C133: CFG_TYPE, CFG_ID, OWNER_ID, PRD_UID | D133: 194 | E133: =SUM(D132:D133) -> 216
A135: WST_COD | B135: PK_WST_COD | C135: DIR_UID | D135: 22 | E135: =SUM(D135:D135) -> 22
A137: WST_CUSTOM_MENU | B137: PK_WST_CUSTOM_MENU | C137: ROW_UID | D137: 22 | E137: =SUM(D137:D137) -> 22
A139: WST_DCT | B139: PK_WST_DCT | C139: TABLE_TYPE, FLD_NAME | D139: 60 | E139: =SUM(D139:D139) -> 60
A141: WST_DIR | B141: PK_WST_DIR | C141: DIR_UID | D141: 22
A142: WST_DIR | B142: IX_DIR_TABLE_TYPE | C142: TABLE_TYPE | D142: 30
A143: WST_DIR | B143: IX_DIR_DIR_ID | C143: DIR_ID | D143: 44 | E143: =SUM(D141:D143) -> 96
A145: WST_DIR_CTRL_COUNTRY | B145: PK_WST_DIR_CTRL_COUNTRY | C145: DIR_UID, CTRL_COUNTRY | D145: 62 | E145: =SUM(D145:D145) -> 62
A147: WST_ENUM | B147: PK_WST_ENUM | C147: TABLE_TYPE, FLD_NAME, ENUM_CODE | D147: 64 | E147: =SUM(D147:D147) -> 64
...

Sheet TABLES
A1: TABLE | B1: DATA ROW BYTES | C1: INDEX ROW BYTES | D1: TOTAL ROW BYTES
A2: ACU_ACCEPTANCE | B2: =COLUMNS!G9 -> 65743 | C2: =INDEXES!E3 -> 142 | D2: =SUM(B2:C2) -> 65885
A3: ACU_ACCEPTANCEMETRIC | B3: =COLUMNS!G15 -> 82 | C3: =INDEXES!E6 -> 66 | D3: =SUM(B3:C3) -> 148
A4: ACU_BENCHMARK | B4: =COLUMNS!G22 -> 65735 | C4: =INDEXES!E9 -> 142 | D4: =SUM(B4:C4) -> 65877
A5: ACU_BENCHMARKVALUE | B5: =COLUMNS!G28 -> 65710 | C5: =INDEXES!E12 -> 164 | D5: =SUM(B5:C5) -> 65874
A6: ACU_EMAILTEMPLATE | B6: =COLUMNS!G35 -> 65735 | C6: =INDEXES!E15 -> 142 | D6: =SUM(B6:C6) -> 65877
A7: ACU_FIELDMAPPING | B7: =COLUMNS!G42 -> 1201 | C7: =INDEXES!E18 -> 142 | D7: =SUM(B7:C7) -> 1343
A8: ACU_FIELDMAPPINGFIELD | B8: =COLUMNS!G47 -> 172 | C8: =INDEXES!E22 -> 186 | D8: =SUM(B8:C8) -> 358
A9: ACU_METRIC | B9: =COLUMNS!G60 -> 132709 | C9: =INDEXES!E25 -> 448 | D9: =SUM(B9:C9) -> 133157
A10: ACU_METRICGROUP | B10: =COLUMNS!G65 -> 1252 | C10: =INDEXES!E28 -> 266 | D10: =SUM(B10:C10) -> 1518
A11: ACU_METRICVARIABLE | B11: =COLUMNS!G71 -> 707 | C11: =INDEXES!E31 -> 142 | D11: =SUM(B11:C11) -> 849
A12: ACU_PROGRAM | B12: =COLUMNS!G95 -> 1171 | C12: =INDEXES!E36 -> 118 | D12: =SUM(B12:C12) -> 1289
A13: ACU_PROGRAMBENCHMARK | B13: =COLUMNS!G100 -> 96 | C13: =INDEXES!E39 -> 66 | D13: =SUM(B13:C13) -> 162
A14: ACU_PROGRAMMETRICVARIABLE | B14: =COLUMNS!G107 -> 633 | C14: =INDEXES!E42 -> 66 | D14: =SUM(B14:C14) -> 699
A15: ACU_PROJECT | B15: =COLUMNS!G148 -> 1329 | C15: =INDEXES!E50 -> 184 | D15: =SUM(B15:C15) -> 1513
A16: ACU_RPT | B16: =COLUMNS!G162 -> 66148 | C16: =INDEXES!E53 -> 142 | D16: =SUM(B16:C16) -> 66290
A17: ACU_RPT_ACPTNC | B17: =COLUMNS!G166 -> 72 | C17: =INDEXES!E56 -> 66 | D17: =SUM(B17:C17) -> 138
A18: ACU_RPT_BMRK | B18: =COLUMNS!G170 -> 72 | C18: =INDEXES!E59 -> 66 | D18: =SUM(B18:C18) -> 138
A19: ACU_RPT_GLIDE_PATH | B19: =COLUMNS!G175 -> 56 | C19: =INDEXES!E62 -> 48 | D19: =SUM(B19:C19) -> 104
A20: ACU_RPT_SMRY | B20: =COLUMNS!G185 -> 203 | C20: =INDEXES!E65 -> 70 | D20: =SUM(B20:C20) -> 273
A21: ACU_RPT_SMRY_ACPTNC | B21: =COLUMNS!G193 -> 250 | C21: =INDEXES!E68 -> 66 | D21: =SUM(B21:C21) -> 316
A22: ACU_RPT_SMRY_BMRK | B22: =COLUMNS!G203 -> 396 | C22: =INDEXES!E71 -> 66 | D22: =SUM(B22:C22) -> 462
A23: ACU_SNAPSHOT | B23: =COLUMNS!G229 -> 377 | C23: =INDEXES!E74 -> 44 | D23: =SUM(B23:C23) -> 421
A24: ACU_SNAPSHOTBENCHMARK | B24: =COLUMNS!G260 -> 127 | C24: =INDEXES!E77 -> 88 | D24: =SUM(B24:C24) -> 215
A25: ACU_SNAPSHOT (UPLOADED FILE) | B25: =COLUMNS!G237 -> 10486401 | C25: =INDEXES!E117 -> 74 | D25: =SUM(B25:C25) -> 10486475
A26: ACU_SNAPSHOT (REPORT FILE) | B26: =COLUMNS!G245 -> 100641 | C26: =INDEXES!E117 -> 74 | D26: =SUM(B26:C26) -> 100715
A27: ACU_SNAPSHOT (JSON METADATA) | B27: =COLUMNS!G253 -> 10486401 | C27: =INDEXES!E117 -> 74 | D27: =SUM(B27:C27) -> 10486475
A28: ACU_SNPST_MTRC_SCORE | B28: =COLUMNS!G274 -> 67376 | C28: =INDEXES!E80 -> 92 | D28: =SUM(B28:C28) -> 67468
A29: ACU_SNPST_MTRC_TRP_ACT | B29: =COLUMNS!G280 -> 216 | C29: =INDEXES!E83 -> 162 | D29: =SUM(B29:C29) -> 378
A30: FW_CFGProcessQueue | B30: =COLUMNS!G291 -> 734 | C30: =INDEXES!E85 -> 32 | D30: =SUM(B30:C30) -> 766
A31: FW_CFGProcessQueueSetup | B31: =COLUMNS!G302 -> 120 | C31: =INDEXES!E87 -> 4 | D31: =SUM(B31:C31) -> 124
A32: FW_DetailJobs | B32: =COLUMNS!G321 -> 329063 | C32: =INDEXES!E89 -> 96 | D32: =SUM(B32:C32) -> 329159
A33: FW_DetailJobStatus | B33: =COLUMNS!G328 -> 2149 | C33: =INDEXES!E91 -> 132 | D33: =SUM(B33:C33) -> 2281
A34: FW_DetailProfiles | B34: =COLUMNS!G350 -> 328309 | C34: =INDEXES!E93 -> 96 | D34: =SUM(B34:C34) -> 328405
A35: FW_MasterJobs | B35: =COLUMNS!G387 -> 814 | C35: =INDEXES!E96 -> 86 | D35: =SUM(B35:C35) -> 900
A36: FW_MasterProfiles | B36: =COLUMNS!G428 -> 572 | C36: =INDEXES!E98 -> 64 | D36: =SUM(B36:C36) -> 636
A37: OPP_ACT | B37: =COLUMNS!G468 -> 768 | C37: =INDEXES!E103 -> 110 | D37: =SUM(B37:C37) -> 878
A38: OPP_CLC | B38: =COLUMNS!G482 -> 441 | C38: =INDEXES!E106 -> 52 | D38: =SUM(B38:C38) -> 493
A39: OPP_SRT | B39: =COLUMNS!G492 -> 797 | C39: =INDEXES!E110 -> 172 | D39: =SUM(B39:C39) -> 969
A40: OPP_STP | B40: =COLUMNS!G505 -> 246 | C40: =INDEXES!E114 -> 66 | D40: =SUM(B40:C40) -> 312
A41: SP_RESASSOC | B41: =COLUMNS!G508 -> 162 | C41: 0 | D41: =SUM(B41:C41) -> 162
A42: WH_OP3_RESASSOC | B42: =COLUMNS!G512 -> 364 | C42: 0 | D42: =SUM(B42:C42) -> 364
A43: WST_ACL | B43: =COLUMNS!G519 -> 178 | C43: =INDEXES!E122 -> 124 | D43: =SUM(B43:C43) -> 302
A44: WST_APPSERVERS | B44: =COLUMNS!G521 -> 162 | C44: =INDEXES!E124 -> 160 | D44: =SUM(B44:C44) -> 322
A45: WST_AUDIT_LOG | B45: =COLUMNS!G530 -> 199 | C45: =INDEXES!E126 -> 22 | D45: =SUM(B45:C45) -> 221
A46: WST_CDR | B46: =COLUMNS!G568 -> 825 | C46: =INDEXES!E130 -> 184 | D46: =SUM(B46:C46) -> 1009
A47: WST_CFG | B47: =COLUMNS!G579 -> 803 | C47: =INDEXES!E133 -> 216 | D47: =SUM(B47:C47) -> 1019
A48: WST_COD | B48: =COLUMNS!G585 -> 182 | C48: =INDEXES!E135 -> 22 | D48: =SUM(B48:C48) -> 204
A49: WST_CUSTOM_MENU | B49: =COLUMNS!G593 -> 80 | C49: =INDEXES!E137 -> 22 | D49: =SUM(B49:C49) -> 102
A50: WST_DCT | B50: =COLUMNS!G608 -> 364 | C50: =INDEXES!E139 -> 60 | D50: =SUM(B50:C50) -> 424
A51: WST_DIR | B51: =COLUMNS!G618 -> 710 | C51: =INDEXES!E143 -> 96 | D51: =SUM(B51:C51) -> 806
A52: WST_DIR_CTRL_COUNTRY | B52: =COLUMNS!G621 -> 106 | C52: =INDEXES!E145 -> 62 | D52: =SUM(B52:C52) -> 168
A53: WST_ENUM | B53: =COLUMNS!G627 -> 106 | C53: =INDEXES!E147 -> 64 | D53: =SUM(B53:C53) -> 170
A54: WST_GRP | B54: =COLUMNS!G633 -> 330 | C54: =INDEXES!E149 -> 40 | D54: =SUM(B54:C54) -> 370
A55: WST_LCK | B55: =COLUMNS!G644 -> 452 | C55: =INDEXES!E154 -> 106 | D55: =SUM(B55:C55) -> 558
A56: WST_LIC | B56: =COLUMNS!G652 -> 193 | C56: =INDEXES!E156 -> 4 | D56: =SUM(B56:C56) -> 197
A57: WST_LICN | B57: =COLUMNS!G658 -> 509 | C57: =INDEXES!E158 -> 22 | D57: =SUM(B57:C57) -> 531
A58: WST_LTYP | B58: =COLUMNS!G662 -> 66 | C58: =INDEXES!E160 -> 8 | D58: =SUM(B58:C58) -> 74
A59: WST_MESSAGE_QUEUE | B59: =COLUMNS!G669 -> 100 | C59: =INDEXES!E162 -> 22 | D59: =SUM(B59:C59) -> 122
A60: WST_MSG | B60: =COLUMNS!G675 -> 599 | C60: =INDEXES!E164 -> 22 | D60: =SUM(B60:C60) -> 621
A61: WST_NTX | B61: =COLUMNS!G683 -> 266 | C61: =INDEXES!E170 -> 148 | D61: =SUM(B61:C61) -> 414
A62: WST_PFA | B62: =COLUMNS!G688 -> 112 | C62: =INDEXES!E174 -> 102 | D62: =SUM(B62:C62) -> 214
A63: WST_PFD | B63: =COLUMNS!G691 -> 86 | C63: =INDEXES!E177 -> 82 | D63: =SUM(B63:C63) -> 168
A64: WST_PFG | B64: =COLUMNS!G697 -> 280 | C64: =INDEXES!E180 -> 26 | D64: =SUM(B64:C64) -> 306
A65: WST_PRD | B65: =COLUMNS!G712 -> 708 | C65: =INDEXES!E182 -> 4 | D65: =SUM(B65:C65) -> 712
A66: WST_PROCESSLOG | B66: =COLUMNS!G729 -> 1261 | C66: =INDEXES!E184 -> 22 | D66: =SUM(B66:C66) -> 1283
A67: WST_PSO | B67: =COLUMNS!G732 -> 66 | C67: =INDEXES!E187 -> 64 | D67: =SUM(B67:C67) -> 130
A68: WST_ROL | B68: =COLUMNS!G736 -> 206 | C68: =INDEXES!E189 -> 40 | D68: =SUM(B68:C68) -> 246
A69: WST_TAB | B69: =COLUMNS!G745 -> 334 | C69: =INDEXES!E191 -> 38 | D69: =SUM(B69:C69) -> 372
A70: WST_TAB_PRD_ACTION | B70: =COLUMNS!G750 -> 345 | C70: =INDEXES!E193 -> 84 | D70: =SUM(B70:C70) -> 429
A71: WST_UDF | B71: =COLUMNS!G760 -> 406 | C71: =INDEXES!E197 -> 202 | D71: =SUM(B71:C71) -> 608
A72: WST_UDT | B72: =COLUMNS!G768 -> 257 | C72: =INDEXES!E203 -> 148 | D72: =SUM(B72:C72) -> 405
A73: WST_UDU | B73: =COLUMNS!G776 -> 262 | C73: =INDEXES!E209 -> 148 | D73: =SUM(B73:C73) -> 410
A74: WST_ULI | B74: =COLUMNS!G785 -> 190 | C74: =INDEXES!E213 -> 66 | D74: =SUM(B74:C74) -> 256
A75: WST_UNM | B75: =COLUMNS!G793 -> 258 | C75: =INDEXES!E219 -> 148 | D75: =SUM(B75:C75) -> 406
A76: WST_UPA | B76: =COLUMNS!G798 -> 74 | C76: =INDEXES!E221 -> 44 | D76: =SUM(B76:C76) -> 118
A77: WST_UPD | B77: =COLUMNS!G803 -> 2072 | C77: =INDEXES!E223 -> 64 | D77: =SUM(B77:C77) -> 2136
A78: WST_UPF | B78: =COLUMNS!G810 -> 2138 | C78: =INDEXES!E225 -> 126 | D78: =SUM(B78:C78) -> 2264
A79: WST_URL_CMD_PARAM | B79: =COLUMNS!G818 -> 286 | C79: =INDEXES!E227 -> 22 | D79: =SUM(B79:C79) -> 308
A80: WST_USG | B80: =COLUMNS!G822 -> 108 | C80: =INDEXES!E229 -> 80 | D80: =SUM(B80:C80) -> 188
A81: WST_USR | B81: =COLUMNS!G857 -> 2778 | C81: =INDEXES!E232 -> 160 | D81: =SUM(B81:C81) -> 2938
A82: WST_USR_CTRL_COUNTRY | B82: =COLUMNS!G860 -> 124 | C82: =INDEXES!E234 -> 120 | D82: =SUM(B82:C82) -> 244
A83: WST_UTX | B83: =COLUMNS!G868 -> 762 | C83: =INDEXES!E240 -> 148 | D83: =SUM(B83:C83) -> 910
A84: WST_WEBAPI_CMD | B84: =COLUMNS!G883 -> 20082 | C84: =INDEXES!E242 -> 22 | D84: =SUM(B84:C84) -> 20104

Sheet CALCULATIONS
A1: DATATYPE | B1: TOTAL BYTES | C1: REMARKS
A2: Metrics | B2: ='Database Sizing'!E9*TABLES!D9 -> 42610240 | C2: Number of Metrics * Metric record size
A3: Metric Variables | B3: ='Database Sizing'!E10*TABLES!D11 -> 4245 | C3: Number of Metric Variables * Metric Variable record size
A4: Benchmarks | B4: ='Database Sizing'!E11*TABLES!D4 -> 329385 | C4: Number of Benchmarks * Benchmark record size
A5: Benchmark Values | B5: ='Database Sizing'!E11*'Database Sizing'!E12*TABLES!D5 -> 1646850 | C5: Number of Benchmark Values * Number of Benchmarks * Benchmark Value record size
A6: Acceptance Criteria | B6: ='Database Sizing'!E13*TABLES!D2 -> 329425 | C6: Number of Acceptance Criteria * Acceptance Criteria record size
A7: Acceptance Criteria Metrics | B7: =('Database Sizing'!E14*'Database Sizing'!E13)*TABLES!D3 -> 14800 | C7: Number of Acceptance Criteria Metrics * Number of Acceptance Criteria * Acceptance Criteria Metric record size
A8: Acceptance Criteria Access Control | B8: =('Database Sizing'!E13*'Database Sizing'!E20)*TABLES!D43 -> 7550 | C8: Number of Acceptance Criteria * Number of Access Control Records * Access Control record size
A9: Programs | B9: ='Database Sizing'!E15*TABLES!D12 -> 6445 | C9: Number of Programs * Program record size
A10: Program Benchmarks | B10: =('Database Sizing'!E16*'Database Sizing'!E15)*TABLES!D13 -> 4050 | C10: Number of Program Benchmarks * Number of Programs * ProgramBenchmark record size
A11: Program Projects | B11: =('Database Sizing'!E17*'Database Sizing'!E15)*TABLES!D15 -> 37825 | C11: Number of Projects * Number of Programs * Project record size
A12: Program Metric Variables | B12: =('Database Sizing'!E10*'Database Sizing'!E15)*TABLES!D11 -> 21225 | C12: Number of Programs * Number of Metric Variables * Metric Variable record size
A13: Program Access Control | B13: =('Database Sizing'!E15*'Database Sizing'!E20)*TABLES!D43 -> 7550 | C13: Number of Programs * Number of Access Control Records * Access Control record size
A14: Projects | B14: =('Database Sizing'!E17*'Database Sizing'!E15)*TABLES!D15 -> 37825 | C14: Number of Projects * Number of Programs * Project record size
A15: Project Access Control | B15: =('Database Sizing'!E15*'Database Sizing'!E20*'Database Sizing'!E17)*TABLES!D43 -> 37750 | C15: Number of Projects * Number of Programs * Number of Access Control Records * Access Control record size
A16: Field Mappings | B16: ='Database Sizing'!E21*TABLES!D7 -> 6715 | C16: Number of Field Mappings * Field Mapping record size
A17: Field Mappings - Field Mapping Fields | B17: =('Database Sizing'!E21*'Database Sizing'!E22)*TABLES!D8 -> 8950 | C17: Number of Field Mappings * Number of Field Mapping Fields * Field Mapping Field record size
A18: Field Mappings Access Control | B18: =('Database Sizing'!E21*'Database Sizing'!E20)*TABLES!D43 -> 7550 | C18: Number of Field Mappings * Number of Access Control Records * Access Control record size
A19: General - Email Footer Templates | B19: ='Database Sizing'!E23*TABLES!D6 -> 329385 | C19: Number of Email Footer Templates * Email Footer Template record size
A20: Project Snapshots | B20: =B27*TABLES!D23 -> 126300 | C20: Snapshot Upload Count * Snapshot record size
A21: Project Snapshot Benchmarks | B21: =(B27*'Database Sizing'!E16)*TABLES!D24 -> 322500 | C21: Snapshot Upload Count * Number of Program Benchmarks * SnapshotBenchmark record size
A22: Project Snapshot Uploads | B22: =(B27*((TABLES!D25)+('Database Sizing'!E19*(1024*1024)))) -> 6291670500 | C22: Snapshot Upload Count * (Snapshot Upload File record size + Submittal Upload file size in bytes)
A23: Project Snapshot Reports | B23: =(B27*TABLES!D26) -> 30214500 | C23: Snapshot Upload Count * Snapshot Report File record size
A24: Project Snapshot JSON Metadata | B24: =(B27*((TABLES!D27)+('Database Sizing'!E19*(1024*1024)))) -> 6291670500 | C24: Snapshot Upload Count * (Snapshot JSON Metadata record size + Submittal Upload file size in bytes)
A27: Snapshot Upload Count | B27: =IF('Database Sizing'!E18="Weekly",52,IF('Database Sizing'!E18="BiWeekly",26,IF('Database Sizing'!E18="Monthly",12,0)))*('Database Sizing'!E15*'Database Sizing'!E17) -> 300 | C27: Submittal Frequency * Number of Projects * Number of Programs
A31: Frequency Values | B31: Weekly
B32: BiWeekly
B33: Monthly
A37: Benchmark Reports (Including Glide Path) | B37: ='Database Sizing'!E24*(TABLES!D16+TABLES!D19) -> 331970 | C37: Number of Reporting Records * (Reporting Records record size + Glide Path record size)
A38: Benchmark Reports - Acceptance Associations | B38: ='Database Sizing'!E25 * 'Database Sizing'!E24 * TABLES!D17 -> 3450 | C38: Number of Acceptance Reporting Associations * Number of Reporting Records * Acceptance Reporting Associations record size
A39: Benchmark Reports - Benchmark Attribute Associations | B39: ='Database Sizing'!E26 * 'Database Sizing'!E24 * TABLES!D18 -> 3450 | C39: Number of Benchmark Reporting Associations * Number of Reporting Records * Benchmark Reporting Associations record size
A40: Benchmark Reports - Summary Data | B40: ='Database Sizing'!E27 * 'Database Sizing'!E24 * TABLES!D20 -> 13650 | C40: Number of Report Summary Data * Number of Reporting Records * Report Summary Data record size
A41: Benchmark Reports - Summary Data - Acceptance Scores | B41: ='Database Sizing'!E28 * 'Database Sizing'!E24 * TABLES!D21 -> 79000 | C41: Number of Report Summary Data Acceptance Scores * Number of Reporting Records * Report Summary Data Acceptance Scores record size
A42: Benchmark Reports - Summary Data - Benchmark Attribute Scores | B42: ='Database Sizing'!E29 * 'Database Sizing'!E24 * TABLES!D22 -> 115500 | C42: Number of Report Summary Data Benchmark Attribute Scores * Number of Reporting Records * Report Summary Data Benchmark Attribute Scores record size
A43: Benchmark Reports - Summary Data - Snapshot Metric Scores | B43: ='Database Sizing'!E30 * 'Database Sizing'!E24 * TABLES!D28 -> 337340000 | C43: Number of Report Summary Data Snapshot Metric Scores * Number of Reporting Records * Snapshot Metric Scores record size
A47: GUID column bytes | B47: 24 | C47: 22 Bytes for the value + 2 bytes to store the length of the value
A48: DATE column bytes | B48: 7 | C48: Oracle is 7 Bytes, SQL Server is 3 Bytes
A49: INT column bytes | B49: 4 | C49: SQL Server is 4 Bytes,
A50: FLOAT column bytes | B50: 8 | C50: SQL Server is 8 Bytes, Oracle is a variable length between 1 and 22 bytes.
A51: (N)VARCHAR column bytes | B51: 2 | C51: (N)VARCHAR columns add 2 bytes to column length to store the length of the value
A52: LONG / ntext column bytes | B52: 16 | C52: LONG length is 16 bytes
A53: SMALLINT column bytes | B53: 2 | C53: SQL Server is 2 Bytes
A57: Base Table / Data Bytes | B57: =SUM(TABLES!D2:'TABLES'!D83) -> 22302551 | C57: Sum of all of the bytes for empty tables
